BEGIN:VCALENDAR
VERSION:2.0
PRODID:-//wp-events-plugin.com//7.2.3.1//EN
BEGIN:VEVENT
UID:144@visitalexandroupoli.gr
DTSTART;TZID=Europe/Athens:20250724T210000
DTEND;TZID=Europe/Athens:20250724T210000
DTSTAMP:20250626T111359Z
URL:https://visitalexandroupoli.gr/eventsmanager/%ce%ac%ce%b3%ce%b9%ce%bf%
 cf%82-%cf%80%ce%b1%ce%90%cf%83%ce%b9%ce%bf%cf%82-%ce%bf-%ce%b1%ce%b3%ce%b9
 %ce%bf%cf%81%ce%b5%ce%af%cf%84%ce%b7%cf%82-%ce%ba%ce%b1%ce%bb%ce%bf%ce%ba%
 ce%b1%ce%af%cf%81%ce%b9-2/
SUMMARY:Άγιος Παΐσιος ο Αγιορείτης - Καλοκαί
 ρι 2025
DESCRIPTION:Άγιος Παΐσιος ο Αγιορείτης\nΟ βίος 
 – Οι λόγοι &amp\; οι ύμνοι του Αγίου\n\nΤους 
 λόγους του Αγίου αποδίδει ο Προκόπης Αγα
 θοκλέους\n\nΑφηγηματική Μουσική Παράστασ
 η\n\n&nbsp\;\nΜια σειρά από ξεχωριστές παραστ
 άσεις υπό τη μορφή σκηνοθετημένης ηχητι
 κής παραγωγής\nαφιερωμένες στην πιο αγαπ
 ητή μορφή συγχρόνου αγίου των ημερών μας
 \, τον Άγιο\nΠαΐσιο τον Αγιορείτη\, έχει πρ
 οσχεδιάσει ο Πέτρος Γαϊτάνος.\nΜετά την ε
 πιτυχημένη κυκλοφορία της πρωτότυπης &nbs
 p\;εργασίας του με τον τίτλο «Άγιος Παΐσι
 ος ο\nΑγιορείτης - Μιλώντας με τον Γέροντ
 α\, ακούγοντας τον Άγιο - Ο βίος\, οι λόγοι 
 και οι ύμνοι του» σε μια\nιδιαιτέρως επιμ
 ελημένη κασετίνα 6 CD\, η οποία έγινε διπλά
  πλατινένια\, ο Πέτρος Γαϊτάνος παρουσιά
 ζει\nγια πρώτη φορά ζωντανά το μεστό αυτό
  έργο\, δίνοντας την ευκαιρία στους ακροα
 τές – θεατές να\nγίνουν κοινωνοί της θεά
 ρεστης αυτής δημιουργίας.\nΟ ακροατής στ
 ις ζωντανές αυτές παραστάσεις θα έχει τη
  δυνατότητα για πρώτη φορά να\nσυνοδοιπο
 ρήσει με τον Άγιο μέσα από ήχους ελληνικ
 ών παραδοσιακών οργάνων\, αφηγήσεις από\n
 ταλαντούχους αφηγητές και τους πνευματι
 κούς ύμνους\, που συνετέθησαν προς τιμήν 
 του Αγίου σε\nσυνδυασμό με ειδικούς φωτι
 σμούς\, ενώ σε μια γιγαντοοθόνη προβάλλο
 νται φωτογραφίες του Γέροντα\nΠαϊσίου απ
 ό διαφορετικές περιόδους της ζωής του\, α
 λλά και των ασκητικών τόπων\, όπου έζησε 
 και\nμόνασε.\nΣε αυτή την ιδιαίτερης σημα
 σίας παραγωγή\, υψηλής στάθμης και αισθη
 τικής\, η οποία θα\nπαρουσιαστεί στην &nbsp\;
 Ελλάδα\, την Κύπρο και άλλα μέρη του πλαν
 ήτη\, ο Πέτρος Γαϊτάνος κάλεσε και τον\nπο
 λύ αγαπητό από την ενσάρκωση του ρόλου τ
 ου Γέροντα Παΐσιου στην τηλεοπτική σειρ
 ά «Άγιος\nΠαΐσιος – Από τα Φάρασα στον ου
 ρανό» ηθοποιό Προκόπη Αγαθοκλέους\, όπως
  και τον εξίσου\nεπιτυχώς συμμετέχοντα σ
 ε αυτήν ηθοποιό Νικήτα Τσακίρογλου.\nΟ Πρ
 οκόπης Αγαθοκλέους\, που με το σπάνιο ταλ
 έντο του μετέφερε μέσω της μικρής οθόνης
  τόσο\nεπιτυχώς την άγια προσωπικότητα τ
 ου Γέροντος Παϊσίου\, αγαπήθηκε υπέρμετρ
 α\nαπό όλο τον κόσμο. Η καλλιτεχνική συνά
 ντηση του Προκόπη Αγαθοκλέους με τον Πέτ
 ρο Γαϊτάνο\nαναμένεται να είναι το καλλι
 τεχνικό-πνευματικό γεγονός της χρονιάς!\
 nΠέμπτη 24/7 21:00\nΘέατρο Αλτιναλμάζη
ATTACH;FMTTYPE=image/jpeg:https://visitalexandroupoli.gr/wp-content/upload
 s/2025/06/cropped-image-2-2-1.jpg
CATEGORIES:Εκδηλώσεις
END:VEVENT
BEGIN:VTIMEZONE
TZID:Europe/Athens
X-LIC-LOCATION:Europe/Athens
BEGIN:DAYLIGHT
DTSTART:20250330T040000
TZOFFSETFROM:+0200
TZOFFSETTO:+0300
TZNAME:EEST
END:DAYLIGHT
END:VTIMEZONE
END:VCALENDAR