BEGIN:VCALENDAR
VERSION:2.0
PRODID:-//wp-events-plugin.com//7.2.3.1//EN
BEGIN:VEVENT
UID:12@visitalexandroupoli.gr
DTSTART;TZID=Europe/Athens:20230908T210000
DTEND;TZID=Europe/Athens:20230908T234500
DTSTAMP:20230801T101343Z
URL:https://visitalexandroupoli.gr/eventsmanager/%ce%ac%ce%bb%ce%ba%ce%b7%
 cf%83%cf%84%ce%b9%cf%82-%cf%80%cf%81%cf%89%cf%84%ce%bf%cf%88%ce%ac%ce%bb%c
 f%84%ce%b7-%ce%ad%ce%be%cf%89-%ce%ba%ce%b1%cf%81%ce%b4%ce%b9%ce%ac-%cf%83%
 cf%84%ce%bf-%ce%b8/
SUMMARY:Άλκηστις Πρωτοψάλτη "Έξω καρδιά" στο 
 Θέατρο Αλτιναλμάζη
DESCRIPTION:Το ρεπερτόριό της\, η φωνή της και η
  ενέργειά της πάνω στη σκηνή\, είναι τα χα
 ρακτηριστικά που κάνουν την Άλκηστη Πρω
 τοψάλτη ξεχωριστή.\n\nΜία συναυλία "Έξω Κα
 ρδιά"\, η οποία θα φέρει το παρελθόν και τ
 ο παρόν σε μία μουσική ισορροπία\, προκει
 μένου να ικανοποιήσει το κοινό της.
ATTACH;FMTTYPE=image/jpeg:https://visitalexandroupoli.gr/wp-content/upload
 s/2023/07/780436.jpg
CATEGORIES:Εκδηλώσεις
LOCATION:Πάρκο Αλτιναλμάζη\, Kondili &amp\; Chatzisavva\, 
 Αλεξανδρούπολη\, Έβρος\, Ελλάδα
GEO:40.859581;25.872369
X-APPLE-STRUCTURED-LOCATION;VALUE=URI;X-ADDRESS=Kondili & Chatzisavva\, Α
 λεξανδρούπολη\, Έβρος\, Ελλάδα;X-APPLE-RADIUS=100;
 X-TITLE=Πάρκο Αλτιναλμάζη:geo:40.859581,25.872369
END:VEVENT
BEGIN:VTIMEZONE
TZID:Europe/Athens
X-LIC-LOCATION:Europe/Athens
BEGIN:DAYLIGHT
DTSTART:20230326T040000
TZOFFSETFROM:+0200
TZOFFSETTO:+0300
TZNAME:EEST
END:DAYLIGHT
END:VTIMEZONE
END:VCALENDAR