BEGIN:VCALENDAR
VERSION:2.0
PRODID:-//wp-events-plugin.com//7.2.3.1//EN
BEGIN:VEVENT
UID:124@visitalexandroupoli.gr
DTSTART;TZID=Europe/Athens:20250716T213000
DTEND;TZID=Europe/Athens:20250717T213000
DTSTAMP:20250716T063026Z
URL:https://visitalexandroupoli.gr/eventsmanager/%ce%b1%ce%b9%ce%bd%ce%b9%
 ce%b3%ce%bc%ce%b1%cf%84%ce%b9%ce%ba%ce%ad%cf%82-%cf%80%ce%b1%cf%81%ce%b1%c
 e%bb%ce%bb%ce%b1%ce%b3%ce%ad%cf%82-%cf%84%ce%bf%cf%85-eric-emmanuel-schmit
 t-%cf%83%cf%84%ce%bf/
SUMMARY:"Αινιγματικές Παραλλαγές" του Eric - Emman
 uel Schmitt στο Θέατρο Αλτιναλμάζη
DESCRIPTION:Ο&nbsp\;Γιάννης Μπέζος&nbsp\;και ο&nbsp\;Πυ
 γμαλίων Δαδακαρίδης&nbsp\;πρωταγωνιστούν 
 στις "Αινιγματικές Παραλλαγές". Μια συνέ
 ντευξη που οδηγεί σε ένα σκληρό παιχνίδι
  της αλήθειας και παράλληλα φανερώνει έν
 αν τρυφερό και ευαίσθητο κόσμο.\nΟ Σωτήρη
 ς Τσαφούλιας συναντάει σκηνοθετικά τον 
 Πυγμαλίωνα Δαδακαρίδη και μαζί έρχονται
  αντιμέτωποι μέσα από το έργο\, με τον διχ
 ασμό\, την απομόνωση\, τις ανθρώπινες σχέ
 σεις και τα αιώνια μυστήρια του έρωτα.\n\n
 Ο Αμπέλ Ζνόρκο (Γιάννης Μπέζος) είναι ένα
 ς συγγραφέας\, βραβευμένος με Νόμπελ που 
 ζει μόνος\, αποτραβηγμένος στο Ροσβανοϋ\,
  ένα μικρό νησί στη Θάλασσα της Νορβηγία
 ς\, αποφεύγοντας τα πάντα και ειδικά τους
  ανθρώπους. Έχοντας πρόσφατα εκδώσει το 2
 1ο του βιβλίο που έχει γίνει τεράστια επι
 τυχία\, δέχεται να δώσει συνέντευξη σε έν
 αν δημοσιογράφο που τον πολιορκεί καιρό 
 τον Έρικ Λάρσεν (Πυγμαλίων Δαδακαρίδης).\
 n\nΆραγε πόσο τυχαία επέλεξε ο Αμπέλ Ζνόρ
 κο τον συγκεκριμένο δημοσιογράφο και πό
 σο τυχαία επέλεξε ο Έρικ Λάρσεν τον συγκ
 εκριμένο συγγραφέα\;\n\nΤι συνδέει τους δυ
 ο άντρες και ποια μονοπάτια θα αναγκαστο
 ύν να περάσουν και να ξεπεράσουν\, όσο οι 
 ανατροπές διαδέχονται η μια την άλλη σε 
 μια ιστορία που η θέση της γάτας και του 
 ποντικού αλλάζει συνεχώς.&nbsp\;&nbsp\;\n\n16 ΙΟΥ
 ΛΙΟΥ 2025\, 21:30\n\nΘΕΑΤΡΟ ΑΛΤΙΝΑΛΜΑΖΗ
ATTACH;FMTTYPE=image/jpeg:https://visitalexandroupoli.gr/wp-content/upload
 s/2025/05/cropped-image-2-1.jpg
CATEGORIES:Παραστάσεις
END:VEVENT
BEGIN:VTIMEZONE
TZID:Europe/Athens
X-LIC-LOCATION:Europe/Athens
BEGIN:DAYLIGHT
DTSTART:20250330T040000
TZOFFSETFROM:+0200
TZOFFSETTO:+0300
TZNAME:EEST
END:DAYLIGHT
END:VTIMEZONE
END:VCALENDAR