BEGIN:VCALENDAR
VERSION:2.0
PRODID:-//wp-events-plugin.com//7.2.3.1//EN
BEGIN:VEVENT
UID:122@visitalexandroupoli.gr
DTSTART;TZID=Europe/Athens:20250702T213000
DTEND;TZID=Europe/Athens:20250702T213000
DTSTAMP:20250527T094900Z
URL:https://visitalexandroupoli.gr/eventsmanager/%ce%b1%ce%bd%cf%84%cf%8e%
 ce%bd%ce%b7%cf%82-%ce%ba%cf%81%cf%8c%ce%bc%cf%80%ce%b1%cf%82-%ce%bb%ce%b5%
 cf%85%cf%84%ce%ad%cf%81%ce%b7%cf%82-%ce%b5%ce%bb%ce%b5%cf%85%ce%b8%ce%b5%c
 f%81%ce%af%ce%bf%cf%85/
SUMMARY:Αντώνης Κρόμπας - Λευτέρης Ελευθερίο
 υ ''Σύμφωνο Επιβίωσης'' στo Θέατρο Αλτιναλ
 μάζη
DESCRIPTION:Ο Αντώνης Κρόμπας κι ο Λευτέρης Ελ
 ευθερίου υπογράφουν "Σύμφωνο Επιβίωσης" 
 και σχολιάζουν\, σατιρίζουν\, υποκρίνοτα
 ι\, εκνευρίζουν και ερεθίζουν το κοινό μέ
 σα σε ένα καταιγιστικό δίωρο.\n\nΑπορίες\, 
 καταγγελίες\, ποιήματα\, κι όλης της γης τ
 α κρίματα αμέσως συγχωρούνται κι ευθύς ξ
 αναγεννιούνται.\n\nΦίλε μου σκέψου φρόνιμ
 α και έλα να τους δεις γιατί αργά ή γρήγο
 ρα μπροστά σου...θα τους βρεις.\n\nΑΛΕΞΑΝΔΡ
 ΟΥΠΟΛΗ\nΘΕΑΤΡΟ ΑΛΤΙΝΑΛΜΑΖΗ\nΤετάρτη 2/7/2025
  | 21:30&nbsp\;
ATTACH;FMTTYPE=image/jpeg:https://visitalexandroupoli.gr/wp-content/upload
 s/2025/05/b_50552_or_POSTER.jpg
CATEGORIES:Παραστάσεις
END:VEVENT
BEGIN:VTIMEZONE
TZID:Europe/Athens
X-LIC-LOCATION:Europe/Athens
BEGIN:DAYLIGHT
DTSTART:20250330T040000
TZOFFSETFROM:+0200
TZOFFSETTO:+0300
TZNAME:EEST
END:DAYLIGHT
END:VTIMEZONE
END:VCALENDAR