BEGIN:VCALENDAR
VERSION:2.0
PRODID:-//wp-events-plugin.com//7.2.3.1//EN
BEGIN:VEVENT
UID:137@visitalexandroupoli.gr
DTSTART;TZID=Europe/Athens:20250620T110000
DTEND;TZID=Europe/Athens:20250627T000000
DTSTAMP:20250618T075342Z
URL:https://visitalexandroupoli.gr/eventsmanager/%ce%b3%ce%b9%ce%bf%cf%81%
 cf%84%ce%ad%cf%82-%ce%bc%ce%b5%cf%84%ce%b1%ce%be%ce%b9%ce%bf%cf%8d-2025/
SUMMARY:Γιορτή Μεταξιού 2025
DESCRIPTION:Για 23η συνεχόμενη χρονιά\, το Σουφλ
 ί ετοιμάζεται να τιμήσει την πλούσια μετ
 αξωτή του παράδοση\, φιλοξενώντας τη «Γι
 ορτή Μεταξιού 2025» από την Παρασκευή 20 έω
 ς και την Παρασκευή 27 Ιουνίου. Τη διοργάν
 ωση έχει αναλάβει και φέτος ο Σύλλογος Φ
 ίλων της Μετάξης «Η Χρυσαλλίδα»\, παρουσ
 ιάζοντας ένα πολυδιάστατο πρόγραμμα που
  συνδυάζει μουσική\, τέχνη\, πολιτισμό κα
 ι συμμετοχική εμπειρία.\n\n\nΑναλυτικά οι 
 βασικές εκδηλώσεις περιλαμβάνουν:\n\n 	Πα
 ρασκευή 20 Ιουνίου:&nbsp\;Εκπαιδευτική περι
 ήγηση στο Μουσείο Μετάξης ΠΙΟΠ το πρωί κ
 αι ένα ευφάνταστο διαδραστικό κουίζ με τ
 ίτλο «Ποιος θέλει να γίνει Σουφλιώτης Εκ
 ατομμυριούχος\;» το βράδυ.\n 	Σάββατο 21 Ιο
 υνίου:&nbsp\;Εργαστήριο παραδοσιακής Σαρακ
 ατσάνικης τέχνης και μεγάλη συναυλία τη
 ς Ορχήστρας Δωματίου Αλεξανδρούπολης στ
 ην Πλατεία Νίκης.\n 	Κυριακή 22 Ιουνίου:&nbsp\
 ;Ξενάγηση σε ιστορικά κτίρια του Σουφλίο
 υ και εγκαίνια εικαστικής έκθεσης με δημ
 ιουργίες φοιτητών από την Ανωτάτη Σχολή 
 Καλών Τεχνών και τη σχολή Konstfack της Στοκχ
 όλμης\, στο Αρχοντικό Μπρίκα.\n 	Δευτέρα 23 
 Ιουνίου:&nbsp\;Παρουσίαση του ευρωπαϊκού π
 ρογράμματος ARACNE από μαθητές Σουφλίου κα
 ι καντάδες από τη Μαντολινάτα του Συλλόγ
 ου «Κινήσου».\n 	Τρίτη 24 Ιουνίου:&nbsp\;Συναυ
 λία της μπάντας του Δ’ Σώματος Στρατού μ
 ε τίτλο «200 Χρόνια Στρατιωτική Μουσική» 
 στο Αμφιθέατρο του Μουσείου ΠΙΟΠ.\n 	Τετά
 ρτη 25 &amp\; Πέμπτη 26 Ιουνίου:&nbsp\;Βραδιές κι
 νηματογράφου με βραβευμένες ταινίες από
  το Φεστιβάλ Δράμας στο Λαογραφικό Μουσε
 ίο Γνάφαλα.\n 	Παρασκευή 27 Ιουνίου:&nbsp\;Η α
 υλαία πέφτει με μια δυναμική συναυλία απ
 ό τους «Πλώ Twist» με ελληνική και ξένη pop &am
 p\; rock μουσική\, στο Αρχοντικό Μπρίκα.\n\nΗ δ
 ιοργάνωση υπόσχεται μια μοναδική εμπειρ
 ία που συνδυάζει την πολιτιστική παράδο
 ση με σύγχρονες καλλιτεχνικές αναζητήσε
 ις\, αναδεικνύοντας το Σουφλί ως ζωντανό 
 πολιτιστικό κύτταρο του Έβρου.\n\n&nbsp\;\n\n
ATTACH;FMTTYPE=image/jpeg:https://visitalexandroupoli.gr/wp-content/upload
 s/2025/06/AFISA-giorti-metaksiou-2025NET-scaled.png
CATEGORIES:Εκδηλώσεις
END:VEVENT
BEGIN:VTIMEZONE
TZID:Europe/Athens
X-LIC-LOCATION:Europe/Athens
BEGIN:DAYLIGHT
DTSTART:20250330T040000
TZOFFSETFROM:+0200
TZOFFSETTO:+0300
TZNAME:EEST
END:DAYLIGHT
END:VTIMEZONE
END:VCALENDAR