BEGIN:VCALENDAR
VERSION:2.0
PRODID:-//wp-events-plugin.com//7.2.3.1//EN
BEGIN:VEVENT
UID:75@visitalexandroupoli.gr
DTSTART;TZID=Europe/Athens:20240710T203000
DTEND;TZID=Europe/Athens:20240710T203000
DTSTAMP:20240708T102145Z
URL:https://visitalexandroupoli.gr/eventsmanager/%ce%b4%ce%b7%ce%bc%ce%bf%
 cf%84%ce%b9%ce%ba%cf%8c-%ce%bb%ce%b1%cf%8a%ce%ba%cf%8c-%ce%ba%ce%b1%ce%b9-
 %ce%ba%cf%81%ce%b7%cf%84%ce%b9%ce%ba%cf%8c-%ce%b3%ce%bb%ce%ad%ce%bd%cf%84%
 ce%b9/
SUMMARY:Δημοτικό Λαϊκό και Κρητικό Γλέντι
DESCRIPTION:Δημοτικό Λαϊκό και Κρητικό γλέντι 
 με τους Γιώργο Βελισσάρη και Μανώλη Κοντ
 αρό\, μαζί τους ο Κωνσταντίνος Βελισσάρη
 ς και στο κλαρίνο ο Σταύρος Ιωαννίδης.\n\n
 Τετάρτη 10 Ιουλίου\n\nΠάρκο Κυκλοφοριακής 
 Αγωγής\, Αλεξανδρούπολη\n\nΕίσοδος: 5€ (ΔΩ
 ΡΕΑΝ είσοδος για παιδιά έως 8 ετών)\n\n&nbsp\;\
 n\n&nbsp\;
ATTACH;FMTTYPE=image/jpeg:https://visitalexandroupoli.gr/wp-content/upload
 s/2024/07/449713718_10231422996549207_8224553103723921779_n.jpg
CATEGORIES:Εκδηλώσεις
END:VEVENT
BEGIN:VTIMEZONE
TZID:Europe/Athens
X-LIC-LOCATION:Europe/Athens
BEGIN:DAYLIGHT
DTSTART:20240331T040000
TZOFFSETFROM:+0200
TZOFFSETTO:+0300
TZNAME:EEST
END:DAYLIGHT
END:VTIMEZONE
END:VCALENDAR