BEGIN:VCALENDAR
VERSION:2.0
PRODID:-//wp-events-plugin.com//7.2.3.1//EN
BEGIN:VEVENT
UID:126@visitalexandroupoli.gr
DTSTART;TZID=Europe/Athens:20250721T213000
DTEND;TZID=Europe/Athens:20250721T213000
DTSTAMP:20250527T100358Z
URL:https://visitalexandroupoli.gr/eventsmanager/%ce%b4%ce%bf%ce%bd-%ce%b6
 %ce%bf%cf%85%ce%ac%ce%bd-%cf%83%cf%84%ce%bf-%ce%b8%ce%ad%ce%b1%cf%84%cf%81
 %ce%bf-%ce%b1%ce%bb%cf%84%ce%b9%ce%bd%ce%b1%ce%bb%ce%bc%ce%ac%ce%b6%ce%b7/
SUMMARY:''Δον Ζουάν'' στο Θέατρο Αλτιναλμάζη
DESCRIPTION:Ο ηθοποιός&nbsp\;Πάνος Βλάχος&nbsp\;και 
 η σκηνοθέτις Λητώ Τριανταφυλλίδου\, συνθ
 έτουν μια νέα αφήγηση γύρω από τον εμβλη
 ματικό αντιήρωα και επανεξετάζουν τη θέ
 ση του άντρα στον σύγχρονο κόσμο.\n\nΜεγάλ
 ος καρδιοκατακτητής\, βλάσφημος και αδιά
 φορος για τις συνέπειες των πράξεών του. 
 Από τον Μολιέρο μέχρι τον Λόρδο Βύρωνα\, 
 ο Δον Ζουάν συμβολίζει την απόρριψη των 
 παραδοσιακών αξιών και την αναζήτηση τη
 ς προσωπικής ελευθερίας. Ωστόσο\, σε μια 
 κοινωνία έντονων αντιπαραθέσεων και ιδε
 ολογικής σύγχυσης\, ο Δον Ζουάν επιβιώνε
 ι αναπαράγοντας ιδεολογήματα που εξυπηρ
 ετούν τις δικές του φιλοδοξίες και επιθυ
 μίες. Έτσι\, σε αυτήν την αναθεωρημένη εκ
 δοχή\, ο&nbsp\;Πάνος Βλάχος&nbsp\;- ως Δον Ζουάν
  - μεταμορφώνεται σε έναν ναρκισσιστικό 
 ηγέτη που προσφέρει απλοϊκές απαντήσεις
  απέναντι σε έναν ιδεολογικά πολύπλοκο κ
 όσμο\, που ζωντανεύουν με τις ερμηνείες τ
 ους οι&nbsp\;Κώστας Φιλίππογλου\, Παναγιώτη
 ς Κατσώλης\,&nbsp\;Ηλέκτρα Φραγκιαδάκη\, Ειρ
 ήνη Μπούνταλη και Μελίνα Βαμπούλα.\n\nΚαθ
 ώς ο Δον Ζουάν προσπαθεί να αποφύγει τις 
 συνέπειες των πράξεων του\, βρίσκεται σε 
 ένα μπαρ. Εκεί\, σε έναν μικρόκοσμο της κο
 ινωνίας μας\, ο Δον Ζουάν ανακαλύπτει ότι
  το πραγματικό του ταλέντο είναι να κερδ
 ίζει ακολούθους. Γοητεύει τους αποπροσα
 νατολισμένους θαμώνες\, ανατρέπει τις κα
 θιερωμένες ισορροπίες στους έμφυλους κα
 ι κοινωνικούς ρόλους\, και σχηματίζει μι
 α λατρεία γύρω από την προσωπικότητά του
 .\n\nΚαθώς το μπαρ μετατρέπεται σε "Εκκλησ
 ία της Ελευθερίας"\, χώρος έκφρασης μιας N
 ew Age Cult (αίρεση)\, και οι ακόλουθοί του γίν
 ονται όλο και πιο αφοσιωμένοι\, τα όρια μ
 εταξύ πίστης και χειραγώγησης γίνονται 
 θολά. O Δον Ζουάν που υποστηρίζει μια Ελε
 υθερία χωρίς κανόνες\, γίνεται ο μοναδικ
 ός και απόλυτος κανόνας.\n\nΈτσι\, μέσα από
  μια ανατρεπτική ιστορία που παίζει με τ
 η θεατρική παράδοση του Δον Ζουάν\, η παρ
 άσταση θέτει καίρια ερωτήματα: Μήπως η ε
 ποχή μας μάς ωθεί να γίνουμε φανατικοί τ
 ης ιδεολογίας στην οποία πιστεύουμε\; Έχ
 ει μεγαλύτερη σημασία ο άνθρωπος ή το μή
 νυμα που φέρει\; Στο τρέχον κλίμα των σύγ
 χρονων "Cultural Wars"\, είμαστε ικανοί να ακούσ
 ουμε κάτι σωστό από τον λάθος άνθρωπο ή π
 αραμένουμε τυφλά πιστοί στους εκπροσώπο
 υς της ιδεολογίας που έχουμε επιλέξει\;\n\
 nΣε αυτή την ανατρεπτική νέα προσέγγιση 
 του Δον Ζουάν\, συμπράττει μία σπουδαία ο
 μάδα συνεργατών: Ο&nbsp\;Φώτης Σιώτας&nbsp\;κα
 ι ο Δημήτρης Χατζηζήσης συνυπογράφουν τ
 ην μουσική της παράστασης που ερμηνεύετ
 αι ζωντανά επί σκηνής\, σε στίχους του Πά
 νου Βλάχου. Τα σκηνικά αναλαμβάνει ο Δημ
 ήτρης Πολυχρονιάδης και τα κοστούμια η Μ
 ατίνα Μέγκλα. Την κίνηση επιμελείται η Π
 αναγιώτα Καλλιμάνη και τους φωτισμούς σ
 χεδιάζει η Βαλεντίνα Ταμιωλάκη.\nΔευτέρα
  21/7/2025\, 21:30\nΘέατρο Αλτιναλμάζη&nbsp\;
ATTACH;FMTTYPE=image/jpeg:https://visitalexandroupoli.gr/wp-content/upload
 s/2025/05/cropped-image-2-3.jpg
CATEGORIES:Παραστάσεις
END:VEVENT
BEGIN:VTIMEZONE
TZID:Europe/Athens
X-LIC-LOCATION:Europe/Athens
BEGIN:DAYLIGHT
DTSTART:20250330T040000
TZOFFSETFROM:+0200
TZOFFSETTO:+0300
TZNAME:EEST
END:DAYLIGHT
END:VTIMEZONE
END:VCALENDAR