BEGIN:VCALENDAR
VERSION:2.0
PRODID:-//wp-events-plugin.com//7.2.3.1//EN
BEGIN:VEVENT
UID:127@visitalexandroupoli.gr
DTSTART;TZID=Europe/Athens:20250725T213000
DTEND;TZID=Europe/Athens:20250725T213000
DTSTAMP:20250602T093836Z
URL:https://visitalexandroupoli.gr/eventsmanager/%ce%b5%ce%bb%ce%ad%ce%bd%
 ce%b7-%ce%b7-%ce%b4%ce%af%ce%ba%ce%b7-%ce%bc%ce%b9%ce%b1%cf%82-%cf%80%cf%8
 c%cf%81%ce%bd%ce%b7%cf%82-%cf%84%ce%bf%cf%85-%ce%bc%ce%b9%ce%b3%ce%ba%ce%a
 d%ce%bb-%ce%bd/
SUMMARY:''Ελένη - Η δίκη μιας πόρνης'' του Μιγκ
 έλ Ντελ Άρκο στο Θέατρο Αλτιναλμάζη
DESCRIPTION:Η παράσταση "Ελένη - Η δίκη μιας πόρ
 νης" του Μιγκέλ Ντελ Άρκο\, σε σκηνοθεσία 
 Χρήστου Σουγάρη\, με τη&nbsp\;Λυδία Κονιόρδ
 ου&nbsp\;στον ομώνυμο ρόλο\, ξεκινά την καλο
 καιρινή της περιοδεία τον Ιούνιο. Το έργ
 ο αυτό παρουσιάζεται για πρώτη φορά στο 
 ελληνικό κοινό\, σε επιλεγμένους σταθμού
 ς σε όλη τη χώρα.&nbsp\;\n\nΕμπνευσμένος από τ
 ο "Ελένης εγκώμιον" του σοφιστή Γοργία\, τ
 ην Ελένη του Ευριπίδη και την Ιλιάδα του 
 Ομήρου\, ο μονόλογος αυτός με πρωταγωνίσ
 τρια την Ωραία Ελένη\, επιχειρεί να επανο
 ρθώσει τις αδικίες που ο μύθος και η "επί
 σημη" εκδοχή των γεγονότων έχουν σωρεύσε
 ι στο πρόσωπο της γυναίκας που θεωρείται
  η αφορμή του Τρωικού πολέμου. Η Ελένη εξ
 απολύει ένα δριμύ κατηγορώ εναντίον όλω
 ν\, από τον υποτιθέμενο πατέρα της (Τυνδά
 ρεω) μέχρι τον πραγματικό (Δία)\, αποδομεί
  τους ήρωες του Τρωικού πολέμου και υπερ
 ασπίζεται τον εαυτό της\, αναρωτώμενη "πο
 ιος γράφει τελικά την ιστορία\;"\n\nΟ Μιγκέ
 λ Ντελ Άρκο\, σημαντική μορφή του σύγχρον
 ου ισπανικού θεάτρου\, με χιούμορ και ευα
 ισθησία\, παρουσιάζει μια ανθρώπινη και 
 απενοχοποιημένη εκδοχή της Ελένης. Η Ελέ
 νη διεκδικεί το δικαίωμα της αφήγησης τη
 ς ιστορίας από την πλευρά των ηττημένων 
 και παρουσιάζει μια διαφορετική εκδοχή 
 για τα γεγονότα που οδήγησαν στον όλεθρο
 \, κατακεραυνώνοντας την πατριαρχία και 
 το δίκαιο του ισχυρού.\nΠαρασκευή 25/7\, 21:30\
 nΘέατρο Αλτιναλμάζη - Αλεξανδρούπολη
ATTACH;FMTTYPE=image/jpeg:https://visitalexandroupoli.gr/wp-content/upload
 s/2025/06/cropped-image-2.jpg
CATEGORIES:Παραστάσεις
END:VEVENT
BEGIN:VTIMEZONE
TZID:Europe/Athens
X-LIC-LOCATION:Europe/Athens
BEGIN:DAYLIGHT
DTSTART:20250330T040000
TZOFFSETFROM:+0200
TZOFFSETTO:+0300
TZNAME:EEST
END:DAYLIGHT
END:VTIMEZONE
END:VCALENDAR