BEGIN:VCALENDAR
VERSION:2.0
PRODID:-//wp-events-plugin.com//7.2.3.1//EN
BEGIN:VEVENT
UID:140@visitalexandroupoli.gr
DTSTART;TZID=Europe/Athens:20250809T213000
DTEND;TZID=Europe/Athens:20250809T213000
DTSTAMP:20250626T104636Z
URL:https://visitalexandroupoli.gr/eventsmanager/%ce%b5%ce%bb%ce%b5%cf%89%
 ce%bd%cf%8c%cf%81%ce%b1-%ce%b6%ce%bf%cf%85%ce%b3%ce%b1%ce%bd%ce%ad%ce%bb%c
 e%b7-%ce%b1%ce%bb%ce%bb%ce%ac-%ce%b6%cf%89-%ce%b1%ce%bb%ce%b5%ce%be%ce%b1%
 ce%bd/
SUMMARY:Ελεωνόρα Ζουγανέλη |“αλλά-ΖΩ”| ΑΛΕΞ
 ΑΝΔΡΟΥΠΟΛΗ
DESCRIPTION:Με νέα μπάντα\, με ανανεωμένο προσω
 πικό ρεπερτόριο καθώς η ίδια βρίσκεται σ
 το στούντιο για τα καινούρια της τραγούδ
 ια που θα κυκλοφορήσουν σύντομα. Πρώτο δ
 είγμα το "ΜΟΝΗ ΚΟΜΠΛΕ" σε μουσική του Γκω
 τιέ Βελισσάρη και στίχους της Sunny Μπαλτζ
 ή που κυκλοφορεί σε όλες τις ψηφιακές πλ
 ατφόρμες από την Panik Records.\n\nΗ Ελεωνόρα σε 
 μια νέα μουσική παράσταση με ανεβασμένη 
 διάθεση\, νέο ήχο&nbsp\;pop&nbsp\;electronica\, πάντα π
 ιστή στη ροκιά\, αλλά και στους λαϊκούς δ
 ρόμους που σταθερά περπατάει.\n\nΕίναι σί
 γουρα πολυδιάστατη\, είναι τολμηρή\, δοκι
 μάζει και δοκιμάζεται στην τέχνη της\, δε
  φοβάται τις αλλαγές\, αντιθέτως τις αναζ
 ητά.\n\nΓιατί το&nbsp\;“αλλάζω”&nbsp\;εμπεριέχ
 ει το&nbsp\;“ζω”\,&nbsp\;εμπεριέχει τη μαγεία 
 της ζωής μέσα από τις εναλλαγές της.\n\nΜε
 τά από τη σειρά των επιτυχημένων εμφανίσ
 εων στο&nbsp\;‘Deus’ της Θεσσαλονίκης και σε
  τροχιά εμφανίσεων στο VOX\,&nbsp\;η Ελεωνόρα 
 Ζουγανέλη προγραμματίζει τις καλοκαιρι
 νές της συναυλίες και μας προσκαλεί να τ
 ραγουδήσουμε μαζί της.\n\n&nbsp\;\n\nΏρα προσέ
 λευσης: 20.30\nΏρα έναρξης: 21.30
ATTACH;FMTTYPE=image/jpeg:https://visitalexandroupoli.gr/wp-content/upload
 s/2025/06/512232182_1021218446882878_2568894990928008025_n.jpg
CATEGORIES:Εκδηλώσεις
END:VEVENT
BEGIN:VTIMEZONE
TZID:Europe/Athens
X-LIC-LOCATION:Europe/Athens
BEGIN:DAYLIGHT
DTSTART:20250330T040000
TZOFFSETFROM:+0200
TZOFFSETTO:+0300
TZNAME:EEST
END:DAYLIGHT
END:VTIMEZONE
END:VCALENDAR