BEGIN:VCALENDAR
VERSION:2.0
PRODID:-//wp-events-plugin.com//7.2.3.1//EN
BEGIN:VEVENT
UID:143@visitalexandroupoli.gr
DTSTART;TZID=Europe/Athens:20250902T203000
DTEND;TZID=Europe/Athens:20250902T203000
DTSTAMP:20250626T111119Z
URL:https://visitalexandroupoli.gr/eventsmanager/%ce%b7-%ce%b1%ce%bb%ce%af
 %ce%ba%ce%b7-%cf%83%cf%84%ce%b7%ce%bd-%cf%87%cf%8e%cf%81%ce%b1-%cf%84%cf%8
 9%ce%bd-%ce%b8%ce%b1%cf%85%ce%bc%ce%ac%cf%84%cf%89%ce%bd/
SUMMARY:Η Αλίκη στην χώρα των θαυμάτων
DESCRIPTION:Ο Δημήτρης Αδάμης&nbsp\;\,ο &nbsp\;αγαπημ
 ένος σκηνοθέτης των παιδιών \, διασκευάζ
 ει&nbsp\; τα δύο βιβλία του&nbsp\;Λιούις Κάρολ:
 &nbsp\;«Οι περιπέτειες της Αλίκης στη Χώρα 
 των Θαυμάτων» και «Μέσα από τον Καθρέφτη
  και τι είδε η Αλίκη εκεί» και τα μεταφέρ
 ει στην πιο μαγική παράσταση που έχει δη
 μιουργήσει ως τώρα για τα παιδιά.\n\nΕίναι
  μια παράσταση που δεν πατάει στη σκηνή α
 λλά πετάει πάνω από τον χώρο της λογικής 
 \, με απίστευτο χιούμορ και αυθόρμητη φαν
 τασία οι ηθοποιοί ακολουθούν τα βήματα τ
 ης Αλίκης στο πέρασμα από την παιδικότητ
 α&nbsp\; στον κόσμο της ενηλικίωσης.\n\nΜε αλ
 ηθινή αυθεντική αφέλεια στην παράσταση 
 ζώα και αντικείμενα μιλούν \, όλα μικραίν
 ουν και μεγαλώνουν σε ένα θεότρελο σκηνι
 κό\, με απίστευτα κοστούμια και μουσική α
 πό τους ηθοποιούς του θιάσου .\n\nΣτήνεται
  ένα τρελό τσάι-πάρτυ φαντασίας όπου&nbsp\; 
 ξετυλίγουν τις φιγούρες τους ο Άσπρος Κο
 ύνελος με τη Γάτα Τσεσάιρ \, ο Καπελάς με 
 την&nbsp\; Κάμπια \, η Κόκκινη Βασίλισσα σε έ
 να ξέφρενο Κροκέ\, οι αστείοι Τουιντλιντ
 άμ και Τουιντλντί\, ο Χάμπτι Ντάμπτι \, τα 
 Τραπουλόχαρτα-Κηπουροί&nbsp\;&nbsp\; καθώς κα
 ι όλα τα μαγικά πλάσματα της φαντασίας τ
 ου Λιούις Κάρολ.\n\nΗ παράσταση&nbsp\; θα σας 
 περιμένει να σας&nbsp\; μαγέψει \,να σας συγ
 κινήσει&nbsp\; και να σας&nbsp\; χαρίσει&nbsp\; μο
 ναδικές στιγμές τρυφερής&nbsp\; παιδικής α
 θωότητας . Η μουσική και τα τραγούδια της
  παράστασης&nbsp\; προέρχονται όλα από τη Μ
 εγάλη Βρετανία&nbsp\; και μελωδίες&nbsp\; και 
 παραδοσιακά τραγούδια από την Αγγλία \, τ
 η&nbsp\; Σκοτία μέχρι και την Ιρλανδία καθώ
 ς και τον μέγα μουσικό πλούτο των Κελτών.
 \n\nΤρίτη 2/9 20:30\n\nΘέατρο Αλτιναλμάζη
ATTACH;FMTTYPE=image/jpeg:https://visitalexandroupoli.gr/wp-content/upload
 s/2025/06/cropped-image-2-1-1.jpg
CATEGORIES:Παραστάσεις
END:VEVENT
BEGIN:VTIMEZONE
TZID:Europe/Athens
X-LIC-LOCATION:Europe/Athens
BEGIN:DAYLIGHT
DTSTART:20250330T040000
TZOFFSETFROM:+0200
TZOFFSETTO:+0300
TZNAME:EEST
END:DAYLIGHT
END:VTIMEZONE
END:VCALENDAR