BEGIN:VCALENDAR
VERSION:2.0
PRODID:-//wp-events-plugin.com//7.2.3.1//EN
BEGIN:VEVENT
UID:100@visitalexandroupoli.gr
DTSTART;TZID=Europe/Athens:20241216T090000
DTEND;TZID=Europe/Athens:20241218T103000
DTSTAMP:20241217T073027Z
URL:https://visitalexandroupoli.gr/eventsmanager/%ce%b7-%ce%b1%cf%8a-%ce%b
 2%ce%b1%cf%83%ce%b9%ce%bb%ce%b9%ce%ba%ce%ae-%ce%b1%ce%ba%ce%b1%ce%b4%ce%b7
 %ce%bc%ce%af%ce%b1-%ce%b1%ce%bd%ce%b1%ce%b6%ce%b7%cf%84%ce%ac-%ce%b2%ce%bf
 %ce%b7%ce%b8%ce%bf%cf%8d/
SUMMARY:Η Αϊ-Βασιλική Ακαδημία αναζητά βοηθο
 ύς του Αϊ- Βασίλη
DESCRIPTION:Η Εμψυχωτική δράση απευθύνεται στ
 α σχολεία και θα πραγματοποιηθεί&nbsp\; από
  τους φοιτητές Γ’ έτους του Δ.Π.Θ.\n\nΗ Αϊ-Β
 ασιλική Ακαδημία αναζητά βοηθούς του Αϊ-
 Βασίλη και για αυτό τον λόγο διοργανώνει
  μαθήματα και σχετικές δοκιμασίες για τα
  παιδιά! Έχετε σκεφτεί παιδιά\, τι χρειάζ
 εται κανείς για να γίνει Αϊ-Βασίλης\; Θα κ
 αταφέρουν οι υποψήφιοι να περάσουν τις δ
 οκιμασίες αυτές και να πάρουν το πτυχίο 
 του βοηθού του Αϊ-Βασίλη\;\nΛεπτομέρειες\n
 \n 	Ημερομηνία:\n 	16 - 18 Δεκεμβρίου\n 	Ώρα:\n 	\n
 09:00 - 10:30\n11:00 - 12:30\n
ATTACH;FMTTYPE=image/jpeg:https://visitalexandroupoli.gr/wp-content/upload
 s/2024/12/Η-Αϊ-Βασιλική-Ακαδημία-αναζητά-βοη
 ούς-του-Αϊ-Βασίλη.jpg
CATEGORIES:Εκδηλώσεις
END:VEVENT
BEGIN:VTIMEZONE
TZID:Europe/Athens
X-LIC-LOCATION:Europe/Athens
BEGIN:STANDARD
DTSTART:20241027T030000
TZOFFSETFROM:+0300
TZOFFSETTO:+0200
TZNAME:EET
END:STANDARD
END:VTIMEZONE
END:VCALENDAR