BEGIN:VCALENDAR
VERSION:2.0
PRODID:-//wp-events-plugin.com//7.2.3.1//EN
BEGIN:VEVENT
UID:130@visitalexandroupoli.gr
DTSTART;TZID=Europe/Athens:20250730T210000
DTEND;TZID=Europe/Athens:20250730T210000
DTSTAMP:20250602T094809Z
URL:https://visitalexandroupoli.gr/eventsmanager/%ce%b7-%ce%bb%ce%af%ce%bc
 %ce%bd%ce%b7-%cf%84%cf%89%ce%bd-%ce%ba%cf%8d%ce%ba%ce%bd%cf%89%ce%bd-%ce%b
 1%cf%80%cf%8c-%cf%84%ce%bf-royal-classical-ballet-%cf%83%cf%84%ce%bf-%ce%b
 8%ce%ad%ce%b1%cf%84/
SUMMARY:"Η Λίμνη των Κύκνων" από το Royal Classical Bal
 let στο Θέατρο Αλτιναλμάζη
DESCRIPTION:Το διάσημο μπαλέτο "Η Λίμνη των Κύκ
 νων"\, αριστούργημα του Πιοτρ Ίλιτς Τσαϊκ
 όφσκι\, παρουσιάζεται από το Royal Classical Ballet
  σε καλοκαιρινή περιοδεία στα ανοιχτά θέ
 ατρα της Ελλάδας.\n\n"Η Λίμνη των Κύκνων" ε
 ίναι μια ιστορία αγάπης που συνεχίζει να
  γοητεύει το κοινό. Η Οντέτ\, παγιδευμένη 
 σε σώμα κύκνου λόγω της κατάρας του μάγο
 υ Ρόθμπαρτ\, παίρνει ανθρώπινη μορφή μόν
 ο τη νύχτα. Ο πρίγκιπας Ζίγκφριντ\, μαγεμ
 ένος από την ομορφιά της\, προσπαθεί να τ
 ην ελευθερώσει από την κατάρα\, αντιμετω
 πίζοντας τις μηχανορραφίες του μάγου. Η 
 αληθινή αγάπη τους αποδεικνύεται ισχυρό
 τερη από κάθε σκοτεινή μαγεία.\n\nΗ παράστ
 αση αποτελεί πρόκληση για τους χορευτές\
 , απαιτώντας υψηλές δεξιοτεχνικές ικανό
 τητες και λυρισμό. Πρόκειται επίσης για 
 ένα μουσικό έργο με υψηλές ερμηνευτικές 
 απαιτήσεις και αγαπημένες μελωδίες. Τα σ
 κηνικά θα είναι ψηφιακά και τρισδιάστατ
 α\, προσφέροντας ένα εντυπωσιακό θέαμα.\n\
 nΤο Royal Classical Ballet είναι μπαλέτο διεθνούς φ
 ήμης από την Ουκρανία\, με 30 επαγγελματίε
 ς χορευτές από κορυφαίες σχολές χορού. Η 
 τεχνική τους ζωντανεύει τις ιστορίες το
 υ Τσαϊκόφσκι με μοναδικό τρόπο.\nΤετάρτη 
 30/7\, 21:00\n&nbsp\;Θέατρο Αλτιναλμάζη\, Αλεξανδ
 ρούπολη
ATTACH;FMTTYPE=image/jpeg:https://visitalexandroupoli.gr/wp-content/upload
 s/2025/06/495451724_657904787111762_8206924655760803974_n.jpg
CATEGORIES:Παραστάσεις
END:VEVENT
BEGIN:VTIMEZONE
TZID:Europe/Athens
X-LIC-LOCATION:Europe/Athens
BEGIN:DAYLIGHT
DTSTART:20250330T040000
TZOFFSETFROM:+0200
TZOFFSETTO:+0300
TZNAME:EEST
END:DAYLIGHT
END:VTIMEZONE
END:VCALENDAR