BEGIN:VCALENDAR
VERSION:2.0
PRODID:-//wp-events-plugin.com//7.2.3.1//EN
BEGIN:VEVENT
UID:125@visitalexandroupoli.gr
DTSTART;TZID=Europe/Athens:20250719T210000
DTEND;TZID=Europe/Athens:20250719T210000
DTSTAMP:20250527T100059Z
URL:https://visitalexandroupoli.gr/eventsmanager/%ce%b7-%cf%80%ce%b5%ce%bd
 %cf%84%ce%ac%ce%bc%ce%bf%cf%81%cf%86%ce%b7-%ce%ba%ce%b1%ce%b9-%cf%84%ce%bf
 -%cf%84%ce%ad%cf%81%ce%b1%cf%82-%cf%83%cf%84%ce%bf-%ce%b8%ce%ad%ce%b1%cf%8
 4%cf%81%ce%bf/
SUMMARY:''Η Πεντάμορφη και το Τέρας'' στο Θέατ
 ρο Αλτιναλμάζη
DESCRIPTION:"Η Πεντάμορφη και το Τέρας" σε Καλο
 καιρινή περιοδεία!\n\nΗ γλυκιά Μπελ και το
  μυστηριώδες Τέρας σε μια παράσταση γεμά
 τη μαγεία\, μουσική και συναίσθημα.\n\nΈνα 
 κλασικό παραμύθι ζωντανεύει στη σκηνή σ
 ε μια μεγάλη παραγωγή από τη θεατρική σκ
 ηνή "Μαγικό καραβάνι".\nΣάββατο\, 19/7/2025 21:00\
 nΘέατρο Αλτιναλμάζη
ATTACH;FMTTYPE=image/jpeg:https://visitalexandroupoli.gr/wp-content/upload
 s/2025/05/cropped-image-2-2.jpg
CATEGORIES:Παραστάσεις
END:VEVENT
BEGIN:VTIMEZONE
TZID:Europe/Athens
X-LIC-LOCATION:Europe/Athens
BEGIN:DAYLIGHT
DTSTART:20250330T040000
TZOFFSETFROM:+0200
TZOFFSETTO:+0300
TZNAME:EEST
END:DAYLIGHT
END:VTIMEZONE
END:VCALENDAR