BEGIN:VCALENDAR
VERSION:2.0
PRODID:-//wp-events-plugin.com//7.2.3.1//EN
BEGIN:VEVENT
UID:10@visitalexandroupoli.gr
DTSTART;TZID=Europe/Athens:20230730T213000
DTEND;TZID=Europe/Athens:20230730T234500
DTSTAMP:20230713T120210Z
URL:https://visitalexandroupoli.gr/eventsmanager/%ce%b8%ce%b5%ce%b1%cf%84%
 cf%81%ce%b9%ce%ba%ce%ae-%cf%80%ce%b1%cf%81%ce%ac%cf%83%cf%84%ce%b1%cf%83%c
 e%b7-%ce%ac%ce%bd%cf%84%cf%81%ce%b5%cf%82-%ce%bc%ce%b5-%cf%84%ce%b1-%cf%8c
 %ce%bb%ce%b1-%cf%84/
SUMMARY:Θεατρική παράσταση «Άντρες με τα όλα
  τους»
DESCRIPTION:Σε μια Αθήνα\, μετά την πανδημία κα
 ι μέσα στην ενεργειακή κρίση\, έξι άντρες
  εντελώς διαφορετικοί μεταξύ τους\, με μό
 νο κοινό το ότι μένουν στην ίδια γειτονι
 ά\, έχουν μείνει άνεργοι…Στην απελπισία 
 τους και μέσα από κωμικοτραγικές καταστ
 άσεις\, αποφασίζουν να κάνουν όλοι μαζί έ
 να σόου με στριπτήζ\, για να μπορέσουν να 
 βγάλουν χρήματα και να σώσουν ό\, τι προλ
 αβαίνουν από τις ζωές τις δικές τους και 
 των οικογενειών τους… Μόνο που κανείς α
 π’ αυτούς δεν ξέρει να χορεύει και κυρίω
 ς να γδύνεται!! Άντρες με τα…όλα τους…Μι
 α παράσταση γεμάτη γέλιο\, ανατροπές\, αν
 θρώπινες ιστορίες\, αγάπη\, χορό\, μουσική
  και στριπτήζ!!!\n\nΠρωταγωνιστούν\n\nΟι Άντ
 ρες:&nbsp\;Μάρκος:&nbsp\;Αντώνης Λουδάρος\,&nbsp\;
 Βασίλης:&nbsp\;&nbsp\;Σωτήρης Καλυβάτσης\,&nbsp\;
 Αριστείδης:&nbsp\;Γιώργος Γαλίτης\,&nbsp\;&nbsp\;
 Βρασίδας:&nbsp\;Ησαΐας Ματιάμπα\,\,&nbsp\;Μίλτο
 ς:&nbsp\;&nbsp\;Θανάσης Πατριαρχέας\,&nbsp\;&nbsp\;Έν
 τι:&nbsp\;Ντάνιελ Νούρκα.\n\nΟι Γυναίκες: Αλί
 κη:&nbsp\;Ελένη Καρακάση\,&nbsp\;&nbsp\;Σοφία:&nbsp\;&
 nbsp\;Παρθένα Χοροζίδου\,&nbsp\;Μαρίνα:&nbsp\;&nbsp\
 ;Ιζαμπέλλα Φούλοπ\,&nbsp\;Άννα:&nbsp\;Άννα Μαρί
 α Κόρνια&nbsp\;και η&nbsp\;Βίκυ Κάβουρα\n\nΣυντ
 ελεστές\n\nΘέμις Μαρσέλλου: Σκηνοθεσία κα
 ι απόδοση – διασκευή κειμένου\n\nΜαίρη Τσ
 αγκάρη:&nbsp\; &nbsp\;Σκηνικά\n\nΠαναγιώτα Κοκκ
 ορού: Κοστούμια\n\nΆννα Αθανασιάδη: Χορογ
 ραφία\n\nΜελίνα Μάσχα: Φωτισμοί\n\nΣοφία Δρ
 ιστέλα: Συνεργάτης Ενδυματολόγου\n\nΝίκο
 ς Ζήκος: Φωτογραφίες\n\nΣτέφανος Παπαδόπο
 υλος: Τρέιλερ\n\nΜαρία Βασιλάτου: Βοηθός σ
 κηνοθέτη\n\nΚάρολος Πορφύρης: Σχεδιασμός 
 προγράμματος-αφίσες\n\nΝτόρα Βαλσαμάκη: Ο
 ργάνωση παραγωγής\n\nΜαργαρίτα Δρούτσα: Δ
 ημόσιες σχέσεις – Προβολή στην Αττική\n\n
 Ρίτα Σίσιου: Δημόσιες σχέσεις – Προβολή 
 στην Επαρχία\n\nΠαραγωγή: Θεατρικές επιχε
 ιρήσεις ΤΑΓΑΡΗ\n\nΠροπώληση&nbsp\;viva
ATTACH;FMTTYPE=image/jpeg:https://visitalexandroupoli.gr/wp-content/upload
 s/2023/07/antres_me_ta_ola_tous.jpg
CATEGORIES:Εκδηλώσεις
LOCATION:Πάρκο Αλτιναλμάζη\, Kondili &amp\; Chatzisavva\, 
 Αλεξανδρούπολη\, Έβρος\, Ελλάδα
GEO:40.859581;25.872369
X-APPLE-STRUCTURED-LOCATION;VALUE=URI;X-ADDRESS=Kondili & Chatzisavva\, Α
 λεξανδρούπολη\, Έβρος\, Ελλάδα;X-APPLE-RADIUS=100;
 X-TITLE=Πάρκο Αλτιναλμάζη:geo:40.859581,25.872369
END:VEVENT
BEGIN:VTIMEZONE
TZID:Europe/Athens
X-LIC-LOCATION:Europe/Athens
BEGIN:DAYLIGHT
DTSTART:20230326T040000
TZOFFSETFROM:+0200
TZOFFSETTO:+0300
TZNAME:EEST
END:DAYLIGHT
END:VTIMEZONE
END:VCALENDAR