BEGIN:VCALENDAR
VERSION:2.0
PRODID:-//wp-events-plugin.com//7.2.3.1//EN
BEGIN:VEVENT
UID:120@visitalexandroupoli.gr
DTSTART;TZID=Europe/Athens:20250611T213000
DTEND;TZID=Europe/Athens:20250611T213000
DTSTAMP:20250527T091139Z
URL:https://visitalexandroupoli.gr/eventsmanager/%ce%b8%ce%bf%ce%b4%cf%89%
 cf%81%ce%ae%cf%82-%cf%86%ce%ad%cf%81%cf%81%ce%b7%cf%82-%ce%ba%ce%b1%cf%84%
 ce%ac%ce%bc%ce%b1%cf%84%ce%b1-tour/
SUMMARY:Θοδωρής Φέρρης "Κατάματα Tour"
DESCRIPTION:Ο Θοδωρής Φέρρης\, γνωστός καλλιτέ
 χνης με εντυπωσιακό ρεπερτόριο και πολλ
 ές επιτυχημένες εμφανίσεις\, ξεκινά μια 
 καλοκαιρινή περιοδεία σε όλη την Ελλάδα.
 .\n\nΗ περιοδεία με τίτλο "Κατάματα Tour"\, πα
 ραγωγή της Panik Live Productions\, υπόσχεται να πρ
 οσφέρει αξέχαστες μουσικές στιγμές με τ
 ις γνωστές επιτυχίες και τις εκφραστικέ
 ς ερμηνείες του Θοδωρή Φέρρη.&nbsp\;\n\nΟ Θοδ
 ωρής Φέρρης φέρνει μουσική και συναίσθη
 μα στο καλοκαίρι.\n\nΤετάρτη 11 Ιουνίου 2025\,
  21:30 (Οι πόρτες ανοίγουν στις 19:00)\nΘΟΔΩΡΗΣ
  ΦΕΡΡΗΣ - ΑΛΕΞΑΝΔΡΟΥΠΟΛΗ 2025\nΠΑΡΑΛΙΑ EOT (Π
 ΛΗΣΙΟΝ CAMPING)\nΑΛΕΞΑΝΔΡΟΥΠΟΛΗ
ATTACH;FMTTYPE=image/jpeg:https://visitalexandroupoli.gr/wp-content/upload
 s/2025/05/b_50901_or_MAIN.jpg
CATEGORIES:Εκδηλώσεις
END:VEVENT
BEGIN:VTIMEZONE
TZID:Europe/Athens
X-LIC-LOCATION:Europe/Athens
BEGIN:DAYLIGHT
DTSTART:20250330T040000
TZOFFSETFROM:+0200
TZOFFSETTO:+0300
TZNAME:EEST
END:DAYLIGHT
END:VTIMEZONE
END:VCALENDAR