BEGIN:VCALENDAR
VERSION:2.0
PRODID:-//wp-events-plugin.com//7.2.3.1//EN
BEGIN:VEVENT
UID:141@visitalexandroupoli.gr
DTSTART;TZID=Europe/Athens:20250726T203000
DTEND;TZID=Europe/Athens:20250726T203000
DTSTAMP:20250716T062938Z
URL:https://visitalexandroupoli.gr/eventsmanager/%ce%bc%ce%b9%cf%87%ce%ac%
 ce%bb%ce%b7%cf%82-%cf%87%ce%b1%cf%84%ce%b6%ce%b7%ce%b3%ce%b9%ce%ac%ce%bd%c
 e%bd%ce%b7%cf%82-%ce%ba%ce%b1%ce%bb%ce%bf%ce%ba%ce%b1%ce%af%cf%81%ce%b9-20
 25/
SUMMARY:Μιχάλης Χατζηγιάννης Καλοκαίρι 2025
DESCRIPTION:Ο Μιχάλης Χατζηγιάννης σε μία από 
 τις πιο εκρηκτικές περιοδείες του καλοκ
 αιριού!\n\nΜετά από μια θριαμβευτική σειρ
 ά sold-out εμφανίσεων στο Gazarte\, ο&nbsp\;Μιχάλης 
 Χατζηγιάννης&nbsp\;ξεκινά μια μεγάλη καλοκ
 αιρινή περιοδεία και φέρνει τη μαγεία το
 υ&nbsp\;σε όλη την Ελλάδα! Ένας από τους πιο 
 αγαπημένους καλλιτέχνες της ελληνικής μ
 ουσικής σκηνής\, με αμέτρητα hits και μοναδ
 ική σκηνική ενέργεια\, υπόσχεται να μας π
 αρασύρει σε βραδιές γεμάτες τραγούδι\, σ
 υναίσθημα και απόλυτη καλοκαιρινή διάθε
 ση.\n\nΑπό το «Βυθός»\, το «Δεν Φεύγω»\, τα «
 Χέρια Ψηλά» και το «Καλοκαίρι Μου» μέχρι
  τις πιο πρόσφατες επιτυχίες του\, ο Μιχά
 λης δημιουργεί μια ατμόσφαιρα γιορτής ό
 που το κοινό γίνεται ένα με τη μουσική. Μ
 αζί του ο εκρηκτικός ZAF\, σε μια συνεργασί
 α που απογειώνει κάθε βραδιά με ρυθμό κα
 ι πάθος.\n\nΚάθε σταθμός της περιοδείας εί
 ναι μια μεγάλη μουσική εμπειρία: ένα ταξ
 ίδι στις πιο αγαπημένες στιγμές μας\, με 
 τραγούδια που μας ένωσαν\, μας συγκίνησα
 ν\, μας σήκωσαν από τη θέση μας. Είναι κάτ
 ι παραπάνω από μια συναυλία — είναι μια 
 βραδιά που δεν επαναλαμβάνεται.\n\nΖήσε τ
 ο καλοκαίρι όπως του αξίζει. Έλα να τραγο
 υδήσουμε μαζί\, να νιώσουμε\, να θυμηθούμ
 ε και – πάνω απ’ όλα – να περάσουμε αξέχ
 αστα!
ATTACH;FMTTYPE=image/jpeg:https://visitalexandroupoli.gr/wp-content/upload
 s/2025/06/518936310_1164277392382799_7993307608644819829_n.jpg
CATEGORIES:Εκδηλώσεις
END:VEVENT
BEGIN:VTIMEZONE
TZID:Europe/Athens
X-LIC-LOCATION:Europe/Athens
BEGIN:DAYLIGHT
DTSTART:20250330T040000
TZOFFSETFROM:+0200
TZOFFSETTO:+0300
TZNAME:EEST
END:DAYLIGHT
END:VTIMEZONE
END:VCALENDAR