BEGIN:VCALENDAR
VERSION:2.0
PRODID:-//wp-events-plugin.com//7.2.3.1//EN
BEGIN:VEVENT
UID:52@visitalexandroupoli.gr
DTSTART;TZID=Europe/Athens:20240720T210000
DTEND;TZID=Europe/Athens:20240720T210000
DTSTAMP:20240617T123846Z
URL:https://visitalexandroupoli.gr/eventsmanager/%ce%bc%ce%bf%ce%bd%cf%8c%
 cf%80%cf%81%ce%b1%ce%ba%cf%84%ce%bf-%ce%bf-%ce%bc%ce%ad%ce%b3%ce%b1%cf%82-
 %ce%b9%ce%b5%cf%81%ce%bf%ce%be%ce%b5%cf%84%ce%b1%cf%83%cf%84%ce%ae%cf%82-%
 cf%84%ce%bf/
SUMMARY:Μονόπρακτο «Ο Μέγας Ιεροξεταστής»\, 
 του Ντοστογιέφσκι
DESCRIPTION:\n\n\nΟ θρύλος του Μεγάλου Ιεροεξετα
 στή είναι ένα κεφάλαιο από τους “Αδελφο
 ύς Καραμάζοφ” του Ντοστογιέφσκη. Ο πυρή
 νας του μύθου είναι διαχρονικός. Αναφέρε
 ται σε κάθε είδος και μορφή εξουσίας. Πρό
 κειται για μιαν εκπληκτική ανατομία της 
 ανθρώπινης προσωπικότητας – τόσο σε ατο
 μικό όσο και σε συλλογικό επίπεδο – όσον
  αφορά το ερώτημα «εξουσία ή ελευθερία\;»
 \n\nΠαρουσιάζεται ως ένα ποίημα του δεύτε
 ρου από τους τρείς αδελφούς Καραμάζοβ\, τ
 ου πιο φιλοσοφημένου\, του Ιβάν. Ο Ιβάν το
  παρουσιάζει στον μικρότερο αδελφό\, Αλι
 όσα\, τον πιο θρησκευόμενο\, εκείνη τη στι
 γμή δόκιμο μοναχό.\n\nΗ ιστορία\, που μεταφ
 έρει ο Ιβάν στον αδελφό του Αλιόσα\, διηγ
 είται την επιστροφή του Χριστού στην γη\,
  και συγκεκριμένα στην Σεβίλλη του 15ου α
 ιώνα. Πλήθος ανθρώπων τον υποδέχεται παρ
 αληρώντας από συγκίνηση\, ώσπου περνά απ
 ό εκεί ο Μέγας Ιεροεξεταστής ο οποίος\, τ
 ον συλλαμβάνει. Την νύχτα πηγαίνει να το
 ν επισκεφτεί στο κελί του.\n\nΟ Μέγας Ιερο
 εξεταστής αποδεικνύει στον Ιησού με επι
 χειρήματα ότι αυτό που έφερε στη Γη δεν μ
 πορεί να πραγματοποιηθεί. Κι αυτό γιατί 
 ο Χριστός παρεξήγησε τη φύση των ανθρώπω
 ν και\, στην προσπάθειά του να κάνει καλό\
 , έκανε κακό. Για μεγάλο χρονικό διάστημα
  πιστεύεις ότι έχει δίκιο. Σταδιακά\, όμω
 ς\, μπορεί να δει κανείς την αδυναμία των 
 επιχειρημάτων\, που είναι και η αδυναμία 
 κάθε δικτατορίας- είτε αυτή είναι θρησκε
 υτική είτε κοινωνικής φύσεως- κι έτσι\, ά
 μα ακολουθήσεις την πολύ δομημένη σειρά 
 των επιχειρημάτων του έργου μπαίνεις στ
 ην καρδιά αιώνιων ερωτημάτων που κυριαρ
 χούν στον κόσμο\, σήμερα περισσότερο από 
 ποτέ.\n\n&nbsp\;\n\n\n
ATTACH;FMTTYPE=image/jpeg:https://visitalexandroupoli.gr/wp-content/upload
 s/2024/06/konstantinos3.jpg
CATEGORIES:Παραστάσεις
END:VEVENT
BEGIN:VTIMEZONE
TZID:Europe/Athens
X-LIC-LOCATION:Europe/Athens
BEGIN:DAYLIGHT
DTSTART:20240331T040000
TZOFFSETFROM:+0200
TZOFFSETTO:+0300
TZNAME:EEST
END:DAYLIGHT
END:VTIMEZONE
END:VCALENDAR