BEGIN:VCALENDAR
VERSION:2.0
PRODID:-//wp-events-plugin.com//7.2.3.1//EN
BEGIN:VEVENT
UID:132@visitalexandroupoli.gr
DTSTART;TZID=Europe/Athens:20250812T210000
DTEND;TZID=Europe/Athens:20250812T210000
DTSTAMP:20250602T100353Z
URL:https://visitalexandroupoli.gr/eventsmanager/%ce%bc%cf%8c%ce%bd%ce%bf%
 cf%82-%ce%bc%ce%b5-%cf%84%ce%bf%ce%bd-%ce%ac%ce%bc%ce%bb%ce%b5%cf%84-%cf%8
 3%cf%84%ce%bf-%ce%b8%ce%ad%ce%b1%cf%84%cf%81%ce%bf-%ce%b1%ce%bb%cf%84%ce%b
 9%ce%bd%ce%b1%ce%bb/
SUMMARY:''Μόνος με τον Άμλετ'' στο Θέατρο Αλτι
 ναλμάζη
DESCRIPTION:Ο πολυσχιδής&nbsp\;Αιμίλιος Χειλάκης
 &nbsp\;επιστρέφει στη σκηνή για να ενσαρκώσ
 ει όλους τους βασικούς ρόλους του σαιξπη
 ρικού δράματος\, σε μια υποβλητική παράσ
 ταση που έχει κερδίσει τις εντυπώσεις κο
 ινού και κριτικών. Επιστρέφει οκτώ χρόνι
 α μετά το τελευταίο της ανέβασμα. Βασισμ
 ένο στον Άμλετ του William Shakespeare\, σε μετάφρ
 αση του Γιώργου Χειμωνά και σκηνοθεσία τ
 ου Αιμίλιου Χειλάκη και του Μανώλη Δούνι
 α\, το έργο φωτίζει την τραγική ειρωνεία\,
  τα πάθη και τις εσωτερικές συγκρούσεις 
 του εμβληματικού ήρωα. Μαζί του επί σκην
 ής\, ο Δημήτρης Καμαρωτός δημιουργεί ζων
 τανά έναν ηχητικό κόσμο που λειτουργεί σ
 αν αντίλαλος της συνείδησης\, σαν εσωτερ
 ική φωνή του Άμλετ.\nΤρίτη 12/08/25&nbsp\;21:00\nΘΕ
 ΑΤΡΟ ΑΛΤΙΝΑΛΜΑΖΗ - ΑΛΕΞΑΝΔΡΟΥΠΟΛΗ
ATTACH;FMTTYPE=image/jpeg:https://visitalexandroupoli.gr/wp-content/upload
 s/2025/06/Monos_me_ton_Amlet_K.jpg
CATEGORIES:Παραστάσεις
END:VEVENT
BEGIN:VTIMEZONE
TZID:Europe/Athens
X-LIC-LOCATION:Europe/Athens
BEGIN:DAYLIGHT
DTSTART:20250330T040000
TZOFFSETFROM:+0200
TZOFFSETTO:+0300
TZNAME:EEST
END:DAYLIGHT
END:VTIMEZONE
END:VCALENDAR