BEGIN:VCALENDAR
VERSION:2.0
PRODID:-//wp-events-plugin.com//7.2.3.1//EN
BEGIN:VEVENT
UID:133@visitalexandroupoli.gr
DTSTART;TZID=Europe/Athens:20250818T210000
DTEND;TZID=Europe/Athens:20250818T210000
DTSTAMP:20250602T100642Z
URL:https://visitalexandroupoli.gr/eventsmanager/%ce%bc%cf%8c%cf%84%cf%83%
 ce%b1%cf%81%cf%84-%ce%bf-%ce%bc%ce%b1%ce%b3%ce%b9%ce%ba%cf%8c%cf%82-%ce%b1
 %cf%85%ce%bb%cf%8c%cf%82-%cf%83%cf%84%ce%bf-%ce%b8%ce%ad%ce%b1%cf%84%cf%81
 %ce%bf-%ce%b1/
SUMMARY:''Μότσαρτ\, ο μαγικός αυλός'' στο Θέατρ
 ο Αλτιναλμάζη
DESCRIPTION:Ο βασιλιάς της μέρας και η βασίλισ
 σα της νύχτας\, κάποτε αγαπήθηκαν τρελά κ
 αι αποφάσισαν να ενωθούν. Όμως η αγάπη το
 υς αυτή κράτησε πολύ λίγο. Εκείνη ήταν φτ
 ιαγμένη από ψέματα και κακία\, εκείνος απ
 ό αλήθεια και καλοσύνη. Εκείνη ήθελε να ε
 ξουσιάζει με το σκοτάδι\, εκείνος ήθελε ν
 α βασιλεύει με το φως. Πώς να ταιριάξουνε
  λοιπόν\; Χώρισαν\, και η μεγάλη αγάπη του
 ς έγινε αμέσως έχθρα.\n\nΜετά από 9 μήνες η 
 σκοτεινή βασίλισσα έφερε στον κόσμο ένα 
 όμορφο κοριτσάκι\, την Παμίνα\, στην οποί
 α ποτέ δεν είπε ποιος είναι ο πατέρας της
 . Το ‘μαθε ο βασιλιάς της μέρας και σκοτε
 ίνιασε. Ήθελε να την πάρει κοντά του. Φοβ
 όταν μήπως ζώντας δίπλα στην μητέρα της 
 έπαιρνε από τον χαρακτήρα της. Έτσι μια μ
 έρα την έκλεψε κρυφά και έβαλε να την φυλ
 άνε σ’ έναν όμορφο πύργο. Θύμωσε τότε η β
 ασίλισσα της νύχτας. Μαύρισε ακόμα περισ
 σότερο τον ουρανό της\, έσβησε τ’ αστέρι
 α της. Έπρεπε να βρει κάποιον τρόπο να πά
 ρει πίσω την κόρη της. Άρχισε λοιπόν να α
 ναζητεί ένα παλικάρι. Ένα παλικάρι που θ
 α μπορούσε να την βοηθήσει. Το βρήκε στο 
 πρόσωπο του πρίγκιπα Ταμίνο\, αλλά και το
 υ Παπαγκένο.\n\nΟ πρίγκιπας Ταμίνο -σύμβολ
 ο της αρετής και της αγάπης\, βρίσκει στο 
 πρόσωπο της Παμίνας το ιδανικό ταίρι. Όμ
 ως το ζευγάρι θα περάσει από πολλές δοκι
 μασίες. Με όπλο την αγάπη\, οι ήρωές μας θ
 α νικήσουν και θα ενωθούν για πάντα. Μαζί
  τους ο Παπαγκένο\, ένας χαριτωμένος παρα
 μυθένιος ήρωας που με τις σκανδαλιές του
  θα χαρίσει στα παιδιά στιγμές χαράς και 
 γέλιου. Το έργο τελειώνοντας βρίσκει του
 ς δυο εχθρούς\, βασίλισσα της νύχτας και 
 βασιλιά της μέρας\, ενωμένους. Το καλό θα 
 νικήσει το κακό και θα απλωθεί σ’ όλη τη 
 γη.\nΔευτέρα 18/08/25&nbsp\;21:00\nΘΕΑΤΡΟ ΑΛΤΙΝΑΛΜ
 ΑΖΗ - ΑΛΕΞΑΝΔΡΟΥΠΟΛΗ
ATTACH;FMTTYPE=image/jpeg:https://visitalexandroupoli.gr/wp-content/upload
 s/2025/06/b_51480_or_POSTER.jpg
CATEGORIES:Παραστάσεις
END:VEVENT
BEGIN:VTIMEZONE
TZID:Europe/Athens
X-LIC-LOCATION:Europe/Athens
BEGIN:DAYLIGHT
DTSTART:20250330T040000
TZOFFSETFROM:+0200
TZOFFSETTO:+0300
TZNAME:EEST
END:DAYLIGHT
END:VTIMEZONE
END:VCALENDAR