BEGIN:VCALENDAR
VERSION:2.0
PRODID:-//wp-events-plugin.com//7.2.3.1//EN
BEGIN:VEVENT
UID:149@visitalexandroupoli.gr
DTSTART;TZID=Europe/Athens:20250718T210000
DTEND;TZID=Europe/Athens:20250718T210000
DTSTAMP:20250626T112735Z
URL:https://visitalexandroupoli.gr/eventsmanager/%ce%bf%ce%b9%ce%ba%ce%bf%
 ce%b3%ce%b5%ce%bd%ce%b5%ce%b9%ce%b1%ce%ba%ce%ad%cf%82-%ce%b9%cf%83%cf%84%c
 e%bf%cf%81%ce%af%ce%b5%cf%82-%cf%84%cf%89%ce%bd-%ce%ba%cf%81%ce%b7%cf%84%c
 e%b9%ce%ba%cf%8e%ce%bd-on-t/
SUMMARY:Οικογενειακές ιστορίες των Κρητικών
  on tour
DESCRIPTION:Μετά από τα απανωτά&nbsp\;sold out&nbsp\;στη
 ν Αθήνα\, καθώς και σε&nbsp\;όλες&nbsp\;τις πόλ
 εις που έχουν ταξιδέψει\,&nbsp\;οι&nbsp\;«ΟΙΚΟ
 ΓΕΝΕΙΑΚΕΣ ΙΣΤΟΡΙΕΣ ΤΩΝ ΚΡΗΤΙΚΩΝ»&nbsp\;συν
 εχίζουν την&nbsp\;περιοδεία σε όλη την Ελλά
 δα... ή τουλάχιστον σε όσες πόλεις προλάβ
 ουμε\, γιατί έχουμε και κάτι μωρά να μεγα
 λώσουμε.\n\nΗ πιο αστεία οικογένεια ξαναχ
 τυπά&nbsp\;για να μοιράσει ασυγκράτητα γέλ
 ια. Ο&nbsp\;Στέλιος Κρητικός&nbsp\;μαζί με του
 ς&nbsp\;Μιχαήλ Άγγελο&nbsp\;και&nbsp\;Άρη Κρητικ
 ό&nbsp\;ανεβάζουν μία φρέσκια\, πρωτότυπη κ
 ωμική πρόταση\, που συμπυκνώνει&nbsp\;stand up c
 omedy\, θέατρο και αυτοσχεδιασμό&nbsp\;σε μία 
 ενιαία παράσταση!&nbsp\;\n\nΠροσωπικές καταθ
 έσεις\, κατά λάθος εξομολογήσεις\, αδελφι
 κές κόντρες\, απρόσμενες&nbsp\;εγκυμοσύνες&
 nbsp\;και κυρίως πολλές\, πολλές...&nbsp\;οικογ
 ενειακές ιστορίες!\nΠαρασκευή 18/7 21:00\nΘέα
 τρο Αλτιναλμάζη
ATTACH;FMTTYPE=image/jpeg:https://visitalexandroupoli.gr/wp-content/upload
 s/2025/06/cropped-image-2-4.jpg
CATEGORIES:Παραστάσεις
END:VEVENT
BEGIN:VTIMEZONE
TZID:Europe/Athens
X-LIC-LOCATION:Europe/Athens
BEGIN:DAYLIGHT
DTSTART:20250330T040000
TZOFFSETFROM:+0200
TZOFFSETTO:+0300
TZNAME:EEST
END:DAYLIGHT
END:VTIMEZONE
END:VCALENDAR