BEGIN:VCALENDAR
VERSION:2.0
PRODID:-//wp-events-plugin.com//7.2.3.1//EN
BEGIN:VEVENT
UID:121@visitalexandroupoli.gr
DTSTART;TZID=Europe/Athens:20250630T204500
DTEND;TZID=Europe/Athens:20250630T204500
DTSTAMP:20250527T094647Z
URL:https://visitalexandroupoli.gr/eventsmanager/%ce%bf%ce%b9-%cf%80%ce%b5
 %cf%81%ce%b9%cf%80%ce%ad%cf%84%ce%b5%ce%b9%ce%b5%cf%82-%cf%84%ce%b7%cf%82-
 %cf%80%ce%ad%cf%80%cf%80%ce%b1-%cf%83%cf%84%ce%bf-%ce%b8%ce%ad%ce%b1%cf%84
 %cf%81%ce%bf-%ce%b1/
SUMMARY:''Οι Περιπέτειες της Πέππα'' στο Θέατρ
 ο Αλτιναλμάζη
DESCRIPTION:Η επίσημη θεατρική παράσταση\, βασ
 ισμένη στην ομώνυμη βραβευμένη σειρά τη
 ς Hasbro\, που έχει μαγέψει μικρούς και μεγά
 λους σε όλο τον κόσμο\, έρχεται στην Ελλά
 δα από την Kolossaion Productions.\n\nΠρόκειται για μ
 ια ολοκαίνουργια\, διαδραστική εμπειρία.
  Ένα ζωντανό σόου γεμάτο τραγούδι\, μουσι
 κή\, χορό και... νερόλακκους\, με όλους του
 ς αγαπημένους ήρωες της σειράς: τον Τζωρ
 τζ\, τη Σούζυ Προβατίνα\, τον Πέντρο Πόνυ\,
  τη Ρεβέκκα Κουνέλη\, τη Μαντάμ Γαζέλα\, τ
 ον Μπαμπά Γουρουνάκη\, την Μαμά Γουρουνί
 τσα και φυσικά... την Πέππα.\n\nΗ Πέππα και 
 οι φίλοι της προσκαλούν το κοινό σε μια δ
 ιασκεδαστική περιπέτεια.\n\n30 Ιουνίου 2025 2
 0:45\n\nΘΕΑΤΡΟ ΑΛΤΙΝΑΛΜΑΖΗ
ATTACH;FMTTYPE=image/jpeg:https://visitalexandroupoli.gr/wp-content/upload
 s/2025/05/cropped-image-2.jpg
CATEGORIES:Παραστάσεις
END:VEVENT
BEGIN:VTIMEZONE
TZID:Europe/Athens
X-LIC-LOCATION:Europe/Athens
BEGIN:DAYLIGHT
DTSTART:20250330T040000
TZOFFSETFROM:+0200
TZOFFSETTO:+0300
TZNAME:EEST
END:DAYLIGHT
END:VTIMEZONE
END:VCALENDAR