BEGIN:VCALENDAR
VERSION:2.0
PRODID:-//wp-events-plugin.com//7.2.3.1//EN
BEGIN:VEVENT
UID:134@visitalexandroupoli.gr
DTSTART;TZID=Europe/Athens:20250826T211500
DTEND;TZID=Europe/Athens:20250826T211500
DTSTAMP:20250604T074249Z
URL:https://visitalexandroupoli.gr/eventsmanager/%ce%bf%cf%8d%cf%84%ce%b5-
 %ce%bc%cf%80%cf%81%ce%bf%cf%82-%ce%bf%cf%8d%cf%84%ce%b5-%cf%80%ce%af%cf%83
 %cf%89-%cf%84%cf%89%ce%bd-%ce%b8%ce%b1%ce%bd%ce%ac%cf%83%ce%b7-%cf%80%ce%b
 1%cf%80%ce%b1%ce%b8/
SUMMARY:''Ούτε Μπρος ούτε Πίσω'' των Θανάση Πα
 παθανασίου - Μιχάλη Ρέππα στο Θέατρο Αλτ
 ιναλμάζη
DESCRIPTION:Ο&nbsp\;Θανάσης Παπαθανασίου&nbsp\;και 
 ο&nbsp\;Μιχάλης Ρέππας\, σε παραγωγή της ετα
 ιρείας Μέθεξις του&nbsp\;Χρήστου Τριπόδη\, 
 παρουσιάζουν αυτό το καλοκαίρι σε όλη τη
 ν Ελλάδα τη νέα τους παράσταση "Ούτε Μπρο
 ς ούτε Πίσω".\n\nΤο έργο "Ούτε Μπρος ούτε Πί
 σω" είναι ένα σπονδυλωτό θέαμα με μουσικ
 ή και τραγούδια\, που σατιρίζει τη σύγχρο
 νη πραγματικότητα. Εξετάζει ό\,τι συμβαί
 νει στα σπίτια μας\, στους δρόμους\, στις 
 πλατείες\, στην τηλεόραση και στα μέσα κο
 ινωνικής δικτύωσης. Θέματα που μας ενώνο
 υν και μας χωρίζουν ως Νεοέλληνες\, με μι
 α επιθεωρησιακή ματιά. Παρουσιάζονται κ
 ομμάτια ζωής και ιστορίες καθημερινής τ
 ρέλας που συνδυάζουν απελπισία και ελπί
 δα. Επτά κωμικοί ηθοποιοί αλλάζουν διαρκ
 ώς ρόλους για να δημιουργήσουν έναν γαλα
 ξία από πρόσωπα που μας μοιάζουν και που 
 συχνά μας εκνευρίζουν\, αλλά τα αγαπάμε. 
 Οι ήρωες του έργου είναι οι γείτονές μας\
 , οι συγγενείς μας\, οι φίλοι μας και οι συ
 νάδελφοί μας\, ή μάλλον οι γελοιογραφίες 
 μας. Η παράσταση "Ούτε Μπρος ούτε Πίσω" εί
 ναι η σέλφι μιας κοινωνίας που επηρεάζετ
 αι από την ταχύτητα των εξελίξεων στην κ
 οινωνία\, την τεχνολογία και την πολιτικ
 ή.\nΤρίτη 26/8\, 21:15\nΘέατρο Αλτιναλμάζη\n&nbsp\;
ATTACH;FMTTYPE=image/jpeg:https://visitalexandroupoli.gr/wp-content/upload
 s/2025/06/cropped-image-2-2.jpg
CATEGORIES:Παραστάσεις
END:VEVENT
BEGIN:VTIMEZONE
TZID:Europe/Athens
X-LIC-LOCATION:Europe/Athens
BEGIN:DAYLIGHT
DTSTART:20250330T040000
TZOFFSETFROM:+0200
TZOFFSETTO:+0300
TZNAME:EEST
END:DAYLIGHT
END:VTIMEZONE
END:VCALENDAR