BEGIN:VCALENDAR
VERSION:2.0
PRODID:-//wp-events-plugin.com//7.2.3.1//EN
BEGIN:VEVENT
UID:19@visitalexandroupoli.gr
DTSTART;TZID=Europe/Athens:20230901T213000
DTEND;TZID=Europe/Athens:20230901T234500
DTSTAMP:20230821T055919Z
URL:https://visitalexandroupoli.gr/eventsmanager/%ce%bf-%ce%b2%ce%b1%cf%83
 %ce%af%ce%bb%ce%b7%cf%82-%ce%bc%cf%80%ce%b1%cf%84%ce%ae%cf%82-live-%cf%83%
 cf%84%ce%b7%ce%bd-%ce%ba%ce%b5%ce%bd%cf%84%cf%81%ce%b9%ce%ba%ce%ae-%cf%80%
 ce%bb%ce%b1%cf%84%ce%b5/
SUMMARY:Ο Βασίλης Μπατής Live στην Κεντρική Πλ
 ατεία Σουφλίου
DESCRIPTION:Ο Βασίλης Μπατής έρχεται σε ένα μο
 ναδικό Live στην Κεντρική Πλατεία του Σουφ
 λίου.\n\n&nbsp\;\n\nΕίσοδος δωρεάν.
ATTACH;FMTTYPE=image/jpeg:https://visitalexandroupoli.gr/wp-content/upload
 s/2023/08/368123574_602494058737673_3111746782253124994_n.jpg
CATEGORIES:Εκδηλώσεις
LOCATION:Κεντρική Πλατεία Σουφλίου\, Σουφλί\, 
 Σουφλί\, 68400\, Ελλάδα
GEO:41.194345;26.299257
X-APPLE-STRUCTURED-LOCATION;VALUE=URI;X-ADDRESS=Σουφλί\, Σουφλί
 \, 68400\, Ελλάδα;X-APPLE-RADIUS=100;X-TITLE=Κεντρική Πλα
 τεία Σουφλίου:geo:41.194345,26.299257
END:VEVENT
BEGIN:VTIMEZONE
TZID:Europe/Athens
X-LIC-LOCATION:Europe/Athens
BEGIN:DAYLIGHT
DTSTART:20230326T040000
TZOFFSETFROM:+0200
TZOFFSETTO:+0300
TZNAME:EEST
END:DAYLIGHT
END:VTIMEZONE
END:VCALENDAR