BEGIN:VCALENDAR
VERSION:2.0
PRODID:-//wp-events-plugin.com//7.2.3.1//EN
BEGIN:VEVENT
UID:8@visitalexandroupoli.gr
DTSTART;TZID=Europe/Athens:20230725T213000
DTEND;TZID=Europe/Athens:20230725T234500
DTSTAMP:20230713T162920Z
URL:https://visitalexandroupoli.gr/eventsmanager/%ce%bf-%ce%b5%ce%bb%ce%ad
 %cf%86%ce%b1%ce%bd%cf%84%ce%b1%cf%82-%cf%83%cf%84%ce%bf-%ce%b4%cf%89%ce%bc
 %ce%ac%cf%84%ce%b9%ce%bf-stand-up-comedy-%ce%bc%ce%b5-%cf%84%ce%bf%ce%bd-%
 ce%b3%ce%b9%cf%8e%cf%81/
SUMMARY:"Ο ελέφαντας στο δωμάτιο" stand-up comedy με 
 τον Γιώργο Χατζηπαύλου στο Θέατρο Αλτιν
 αλμάζη
DESCRIPTION:Τι είναι ο Ελέφαντας στο δωμάτιο\;\n
 \nΜια παράσταση stand-up comedy για: Τα μοναδικά 
 15 λεπτά που ένας άντρας μπορεί να σκεφτε
 ί καθαρά. Το καλύτερο χρονικό σημείο κάθ
 ε σχέσης.\nΤα παζλ και τους παραδοσιακούς
  χορούς. Όσα γράφονται μόνο σε post\, γιατί 
 αν τα πεις προφορικά θα γεράσεις μόνος. Τ
 ο σύμπαν που σε βοηθά να βρεις το άλλο σο
 υ μισό\, 500 μέτρα μακριά από το σπίτι σου. 
 Όσα μαθαίνεις για τους μπαμπάδες στην πα
 ιδική χαρά. Τους life coaches και όσους γράφου
 ν στο προφίλ τους "εραστής του φωτός". Τον
  τρόπο να ανακαλύψεις ποιος πραγματικά ε
 ίσαι και τι κάνεις\, αν βρεις ότι είσαι αν
 τιπαθητικός. Τον σωστό και τον λάθος τρό
 πο να μεγαλώνεις και όλα όσα θα έλεγες στ
 ον έφηβο εαυτό σου. Όσους σού λένε αριθμο
 ύς και ονόματα μετά το φτέρνισμα\, θες δε
 ν θες. Τη σχέση ανάμεσα σε ένα ντικ πικ κα
 ι την ελεύθερη οικονομία.\n\nΑλλά και για 
 όλα εκείνα\, μικρά ή μεγάλα\, για τα οποία 
 αποφεύγουμε να μιλήσουμε παρότι είναι μ
 προστά μας\, σαν ελέφαντας στο δωμάτιο.
ATTACH;FMTTYPE=image/jpeg:https://visitalexandroupoli.gr/wp-content/upload
 s/2023/07/772054.jpg
CATEGORIES:Εκδηλώσεις
LOCATION:Πάρκο Αλτιναλμάζη\, Kondili &amp\; Chatzisavva\, 
 Αλεξανδρούπολη\, Έβρος\, Ελλάδα
GEO:40.859581;25.872369
X-APPLE-STRUCTURED-LOCATION;VALUE=URI;X-ADDRESS=Kondili & Chatzisavva\, Α
 λεξανδρούπολη\, Έβρος\, Ελλάδα;X-APPLE-RADIUS=100;
 X-TITLE=Πάρκο Αλτιναλμάζη:geo:40.859581,25.872369
END:VEVENT
BEGIN:VTIMEZONE
TZID:Europe/Athens
X-LIC-LOCATION:Europe/Athens
BEGIN:DAYLIGHT
DTSTART:20230326T040000
TZOFFSETFROM:+0200
TZOFFSETTO:+0300
TZNAME:EEST
END:DAYLIGHT
END:VTIMEZONE
END:VCALENDAR