BEGIN:VCALENDAR
VERSION:2.0
PRODID:-//wp-events-plugin.com//7.2.3.1//EN
BEGIN:VEVENT
UID:128@visitalexandroupoli.gr
DTSTART;TZID=Europe/Athens:20250727T210000
DTEND;TZID=Europe/Athens:20250727T210000
DTSTAMP:20250602T094115Z
URL:https://visitalexandroupoli.gr/eventsmanager/%ce%bf-%ce%bc%cf%8c%ce%b3
 %ce%bb%ce%b7%cf%82-%ce%ba%ce%b1%ce%b9-%cf%84%ce%bf-%ce%b2%ce%b9%ce%b2%ce%b
 b%ce%af%ce%bf-%cf%84%ce%b7%cf%82-%ce%b6%ce%bf%cf%8d%ce%b3%ce%ba%ce%bb%ce%b
 1%cf%82-%cf%83/
SUMMARY:''Ο Μόγλης και το Βιβλίο της Ζούγκλας'
 ' στο Θέατρο Αλτιναλμάζη
DESCRIPTION:Το KidsTheater ανακοινώνει την καλοκαιρ
 ινή περιοδεία της παράστασης "Ο Μόγλης κ
 αι Το Βιβλίο της Ζούγκλας"\, βασισμένη στ
 ο κλασικό έργο του Ράντγιαρντ Κίπλινγκ. 
 Η περιοδεία θα ξεκινήσει τον Ιούνιο και 
 θα διαρκέσει έως τον Σεπτέμβριο\, με σταθ
 μούς σε μεγάλα θέατρα και υπαίθριες σκην
 ές σε όλη την Ελλάδα. Πρόκειται για μια ι
 στορία γεμάτη περιπέτεια\, σοφία και δια
 χρονικά μηνύματα για μικρούς και μεγάλο
 υς. Ο Μόγλης\, ένα ανθρώπινο κουτάβι που μ
 εγαλώνει ανάμεσα σε δύο κόσμους\, καλείτ
 αι να ανακαλύψει τη δική του ταυτότητα\, 
 να μάθει τη δύναμη της φιλίας\, του θάρρο
 υς και της συνεργασίας\, και να προστατεύ
 σει τη ζούγκλα που τον μεγάλωσε. Η παράστ
 αση περιλαμβάνει σκηνοθεσία από την Αθα
 νασία Καλογιάννη\, μουσική\, χορό και σκη
 νικά που δημιουργούν μοναδικές στιγμές 
 διασκέδασης και συγκίνησης.\nΚυριακή 27/7\,
  21:00\nΘέατρο Αλτιναλμάζη - Αλεξανδρούπολη
ATTACH;FMTTYPE=image/jpeg:https://visitalexandroupoli.gr/wp-content/upload
 s/2025/06/cropped-image-2-1.jpg
CATEGORIES:Παραστάσεις
END:VEVENT
BEGIN:VTIMEZONE
TZID:Europe/Athens
X-LIC-LOCATION:Europe/Athens
BEGIN:DAYLIGHT
DTSTART:20250330T040000
TZOFFSETFROM:+0200
TZOFFSETTO:+0300
TZNAME:EEST
END:DAYLIGHT
END:VTIMEZONE
END:VCALENDAR