BEGIN:VCALENDAR
VERSION:2.0
PRODID:-//wp-events-plugin.com//7.2.3.1//EN
BEGIN:VEVENT
UID:5@visitalexandroupoli.gr
DTSTART;TZID=Europe/Athens:20230806T210000
DTEND;TZID=Europe/Athens:20230806T234500
DTSTAMP:20230801T101244Z
URL:https://visitalexandroupoli.gr/eventsmanager/%ce%bf-%ce%bd%ce%af%ce%ba
 %ce%bf%cf%82-%ce%b2%ce%ad%cf%81%cf%84%ce%b7%cf%82-%cf%83%cf%84%ce%b7%ce%bd
 -%ce%b1%ce%bb%ce%b5%ce%be%ce%b1%ce%bd%ce%b4%cf%81%ce%bf%cf%8d%cf%80%ce%bf%
 ce%bb%ce%b7-%cf%84%ce%b7/
SUMMARY:Ο Νίκος Βέρτης στην Αλεξανδρούπολη τ
 ην Κυριακή 6 Αυγούστου
DESCRIPTION:Ο Νίκος Βέρτης\, ο καλλιτέχνης που 
 κατάφερε να κάνει τεράστια επιτυχία σε Ε
 λλάδα και εξωτερικό\, με πάνω από 300.000 θεα
 τές στις ζωντανές εμφανίσεις του ετησίω
 ς\, με συναυλίες sold out στα πιο εντυπωσιακά
  γήπεδα και θέατρα ανά την υφήλιο (Wembley\, Ko
 dak Theatre\, Mirage Las Vegas\, κ.α.)\, μετά τις δύο συνε
 χόμενες sold out μαγικές βραδιές στο κατάμε
 στο&nbsp\;Κατράκειο Θέατρο Νίκαιας&nbsp\;και 
 στη Ρόδο\, έρχεται στην&nbsp\;Αλεξανδρούπολ
 η&nbsp\;την&nbsp\;Κυριακή 6 Αυγούστου&nbsp\;στο&nbs
 p\;Λιμάνι Αλεξανδρούπολης\,&nbsp\;με μια άκρ
 ως επιτυχημένη καλοκαιρινή περιοδεία γι
 α τα 20 χρόνια της μουσικής του πορείας.\n\n
 Ο καλλιτέχνης που έσπασε το φράγμα των 100
 εκ. views με το “Αν είσαι ένα αστέρι” και α
 μέσως μετά με το “Θέλω να με νιώσεις” το
 ν αξεπέραστο αριθμό των διακοσίων εκατο
 μμυρίων views\, ξεκίνησε την περιοδεία του 
 πλαισιωμένος από μια εντυπωσιακή παραγω
 γή\, για λίγες εμφανίσεις ανά την Ελλάδα 
 και το εξωτερικό.\n\nΣε κάθε του συναυλία 
 εκατοντάδες όρθιοι στην VIP area μπροστά στ
 η σκηνή\, και χιλιάδες όρθιοι τραγουδούν 
 τις μεγαλύτερες επιτυχίες των 20 χρόνων.&n
 bsp\;Το σκηνικό άκρως εντυπωσιακό\, σε μια 
 υπερπαραγωγή διεθνών προδιαγραφών\, με τ
 ην ατμόσφαιρα γεμάτη πάθος και έκσταση\, 
 ο Νίκος Βέρτης με την μοναδική του ενέργ
 εια και πολλές φορές συγκινημένος από τη
 ν απλόχερη αγάπη του κόσμου\, μας χαρίζει
  αξέχαστες καλοκαιρινές βραδιές παρέα μ
 ε τους 25 επί σκηνής μουσικούς του και τρα
 γουδιστές.\n\n20 χρόνια Νίκος Βέρτης.\n\n20 χρ
 όνια επιτυχίες με πάθος για τη μουσική.\n\
 nΚαι η περιοδεία συνεχίζεται την&nbsp\;Κυρι
 ακή 6 Αυγούστου&nbsp\;στο&nbsp\;Λιμάνι της Αλε
 ξανδρούπολης!\n\nΏρα έναρξης: 21:00\n\nΤιμές&nb
 sp\;εισιτηρίων:\nArena: 25€\n\nVIP tickets / informations: 694
  089&nbsp\;0000&nbsp\;|&nbsp\;Πρόσβαση μπροστά στο sta
 ge&nbsp\;+ Ξεχωριστή πύλη εισόδου.\n\nΕισιτ
 ήρια:&nbsp\;https://www.viva.gr/tickets/music/tour/nikos-vertis-20-yea
 rs-live-concerts/
ATTACH;FMTTYPE=image/jpeg:https://visitalexandroupoli.gr/wp-content/upload
 s/2023/07/Facebook-GREEK-e1689242630894.jpg
CATEGORIES:Εκδηλώσεις
LOCATION:Λιμάνι Αλεξανδρούπολης\, Λιμάνι Αλε
 ξανδρούπολης\, ΑΛΕΞΑΝΔΡΟΥΠΟΛΗ\, 68133\, Ελλά
 δα
GEO:40.84488;25.882747
X-APPLE-STRUCTURED-LOCATION;VALUE=URI;X-ADDRESS=Λιμάνι Αλεξανδ
 ρούπολης\, ΑΛΕΞΑΝΔΡΟΥΠΟΛΗ\, 68133\, Ελλάδα;X-A
 PPLE-RADIUS=100;X-TITLE=Λιμάνι Αλεξανδρούπολης:geo:40
 .84488,25.882747
END:VEVENT
BEGIN:VTIMEZONE
TZID:Europe/Athens
X-LIC-LOCATION:Europe/Athens
BEGIN:DAYLIGHT
DTSTART:20230326T040000
TZOFFSETFROM:+0200
TZOFFSETTO:+0300
TZNAME:EEST
END:DAYLIGHT
END:VTIMEZONE
END:VCALENDAR