BEGIN:VCALENDAR
VERSION:2.0
PRODID:-//wp-events-plugin.com//7.2.3.1//EN
BEGIN:VEVENT
UID:142@visitalexandroupoli.gr
DTSTART;TZID=Europe/Athens:20250821T210000
DTEND;TZID=Europe/Athens:20250821T210000
DTSTAMP:20250626T110652Z
URL:https://visitalexandroupoli.gr/eventsmanager/%ce%bf-%cf%85%cf%80%ce%b7
 %cf%81%ce%ad%cf%84%ce%b7%cf%82-%ce%b4%cf%8d%ce%bf-%ce%b1%cf%86%ce%b5%ce%bd
 %cf%84%ce%ac%ce%b4%cf%89%ce%bd-%ce%ba%ce%ac%cf%81%ce%bb%ce%bf-%ce%b3%ce%ba
 %ce%bf%ce%bb%ce%bd%cf%84/
SUMMARY:Ο Υπηρέτης δύο Αφεντάδων - Κάρλο Γκολ
 ντόνι
DESCRIPTION:\n\nΟ Βασίλης Χαραλαμπόπουλος το κα
 λοκαίρι θα έχει δύο αφεντικά\n\n«Ο Υπηρέτ
 ης δύο Αφεντάδων» - Κάρλο Γκολντόνι\n\nΚαλ
 οκαιρινή περιοδεία σε όλη την Ελλάδα\nΣκ
 ηνοθεσία: Γιάννης Κακλέας\n\nΟ ευρηματικό
 ς και δαιμόνιος&nbsp\;Γιάννης Κακλέας&nbsp\;θ
 α σκηνοθετήσει το φετινό καλοκαίρι σε μι
 α μεγάλη περιοδεία σε όλη την Ελλάδα το α
 ριστούργημα του&nbsp\;Κάρλο Γκολντόνι\,&nbsp\;
 «Ο Υπηρέτης δύο Αφεντάδων»&nbsp\;με τον απο
 λαυστικό&nbsp\;Βασίλη Χαραλαμπόπουλο&nbsp\;σ
 τον εμβληματικό ρόλο του Τρουφαλντίνου\,
  του δαιμόνιου υπηρέτη που προσπαθεί να 
 εξυπηρετήσει δύο αφεντικά ταυτόχρονα\, δ
 ημιουργώντας ένα αξεπέραστο μωσαϊκό παρ
 εξηγήσεων\, κωμικών καταστάσεων και διαχ
 ρονικών σχολίων για την ανθρώπινη φύση.&n
 bsp\; Στο πλευρό του Βασίλη Χαραλαμπόπουλο
 υ\, η καταξιωμένη και αγαπημένη ηθοποιός&
 nbsp\;Φαίη Ξυλά&nbsp\;αναλαμβάνει έναν από το
 υς πρωταγωνιστικούς ρόλους\, χαρίζοντας 
 στη σκηνή τη μοναδική της ενέργεια και ε
 ρμηνευτική δύναμη.\n\nΓνωστός για τις πρω
 τότυπες και εκρηκτικές σκηνοθετικές του
  προσεγγίσεις\, ο&nbsp\;Γιάννης Κακλέας&nbsp\;
 σκηνοθετεί έναν αξιόλογο θίασο\, ζωντανε
 ύοντας τη διαχρονική σάτιρα του Γκολντό
 νι με δυναμισμό\, φαντασία και έντονο ρυθ
 μό.\n\n\n\nΠέμπτη 21/8 21:00\n\nΘέατρο Αλτιναλμάζ
 η
ATTACH;FMTTYPE=image/jpeg:https://visitalexandroupoli.gr/wp-content/upload
 s/2025/06/cropped-image-2-3.jpg
CATEGORIES:Εκδηλώσεις
END:VEVENT
BEGIN:VTIMEZONE
TZID:Europe/Athens
X-LIC-LOCATION:Europe/Athens
BEGIN:DAYLIGHT
DTSTART:20250330T040000
TZOFFSETFROM:+0200
TZOFFSETTO:+0300
TZNAME:EEST
END:DAYLIGHT
END:VTIMEZONE
END:VCALENDAR