BEGIN:VCALENDAR
VERSION:2.0
PRODID:-//wp-events-plugin.com//7.2.3.1//EN
BEGIN:VEVENT
UID:27@visitalexandroupoli.gr
DTSTART;TZID=Europe/Athens:20231204T210000
DTEND;TZID=Europe/Athens:20231204T234500
DTSTAMP:20231113T115856Z
URL:https://visitalexandroupoli.gr/eventsmanager/%ce%bf-%cf%86%ce%af%ce%bb
 %ce%bf%cf%82-%ce%bc%ce%bf%cf%85-%ce%bf-%ce%bd%cf%84%ce%bf%cf%83%cf%84%ce%b
 f%ce%b3%ce%b9%ce%b5%cf%86%cf%83%ce%ba%ce%b9-%ce%b1%ce%bb%ce%b5%ce%be%ce%b1
 %ce%bd%ce%b4%cf%81%ce%bf/
SUMMARY:Ο Φίλος μου ο ΝΤΟΣΤΟΓΙΕΦΣΚΙ | ΑΛΕΞΑΝΔ
 ΡΟΥΠΟΛΗ
DESCRIPTION:2ος Χρόνος επιτυχίας!&nbsp\;\n\nΟ φίλος 
 μου ο Ντοστογιέφσκι Της Δήμητρας Παπαδο
 πούλου Με τον Παύλο Λουτσίδη\, σε σκηνοθε
 σία κωστα Γάκη Τι κοινό θα μπορούσε να συ
 νδέει έναν «Νεοέλληνα» με τον κορυφαίο μ
 υθιστορηματογράφο Φ. Ντοστογιέφσκι\; Η θ
 εατρική διασκευή της Δήμητρας Παπαδοπού
 λου αποπειράται να δώσει εξηγήσεις για τ
 ην ιδιότυπη αυτή συσχέτιση… Ο ήρωας της 
 παράστασης\, είναι ο άνθρωπος της διπλαν
 ής μας πόρτας. Η καλοπληρωμένη δουλειά τ
 ου\, το καλό σπίτι και το ακριβό αυτοκίνη
 το είναι τα προϊόντα της ευημερίας και ο
 ι προϋποθέσεις της αναγνώρισης του ως «ε
 πιτυχημένου» μέλους της κοινωνίας μας.. 
 Οι μετανάστες και οι κακόφημες γειτονιέ
 ς πλήττουν την αισθητική του ενώ απαραίτ
 ητο αξεσουάρ-επιβεβαίωση της ανδρικής τ
 ου ταυτότητας.. η Εύα\, μια αιθέρια ύπαρξη
 ... Όλα αυτά προ κρίσης... Χειρότερο εφιάλτ
 η δεν θα μπορούσε να ζήσει ο ήρωας μας. Θύ
 μα της οικονομικής κρίσης ζει\, πλέον\, σε
  ένα υπόγειο στον Αγ. Παντελεήμονα χωρίς 
 δουλειά και χωρίς τη συνοδεία του μέχρι 
 πρότινος «status» του\, με ό\,τι συνεπάγεται 
 αυτό. Μοναδική του συντροφιά\, τα τεράστι
 α χρέη του και ένα βιβλίο που έπεσε τυχαί
 α στα χέρια του. «Το όνειρο ενός γελοίου»
 . Διαβάζοντας το συνειδητοποίει πόσο μάτ
 αιη και αδιέξοδη ήταν η ζωή του και πόσο 
 «γελοίος»\, μπορεί να θεωρείται όποιος σ
 τηρίζει την ευτυχία του στα υλικά αγαθά 
 και τις εφήμερες απολαύσεις. Ακόμα\, την 
 οδύνη που μπορεί να νιώσει κάποιος\, όταν
  έρχεται αντιμέτωπος με τη «γελοιότητα» 
 που κάποτε όριζε ως «ευτυχία». Ένας τέτο
 ιος άνθρωπος καλείται είτε να επαναπροσ
 διορίσει τη ζωή του\, είτε να παραιτηθεί 
 από αυτή. Ακόμα και να της δώσει οριστικό
  τέρμα... Ένα ερώτημα τον βασανίζει όσο το
 ν παρακολουθούμε επί σκηνής και συμπάσχ
 ουμε με το δράμα του. «Να ζει κανείς ή να 
 μη ζει\;». Την απάντηση τελικά τη βρίσκει 
 μόνος του με τη βοήθεια του πολύτιμου φί
 λου του Ντοστογιέφσκι. Τελικά οι μετανάσ
 τες δεν φαντάζουν τόσο αποκρουστικοί\, ο
 ι πλατείες αποκτούν χρώμα και η ζωή νόημ
 α\, αφού η ανιδιοτελής αγάπη λειτουργεί ω
 ς αντίδοτο για όλες τις απώλειες. Ένα έργ
 ο για τη ζωή\, βγαλμένο από την ίδια τη ζω
 ή. Ίσως μετά το τέλος της παράστασης ο γε
 ίτονας σας φανεί λιγότερο ενοχλητικός\, 
 η φασαρία της γειτονιάς περισσότερο υπο
 φερτή\, τα προβλήματα πιο εύκολα αντιμετ
 ωπίσιμα\, τα εμπόδια όχι και τόσο ανυπέρβ
 λητα. Έστω και για λίγο...\n\n&nbsp\;\n\nΓενική Ε
 ίσοδος 15\,00€&nbsp\;\n\nΑΜΕΑ/ΦΟΙΤΗΤΕΣ/ΑΝΕΡΓΟΙ 
 12\,00€
ATTACH;FMTTYPE=image/jpeg:https://visitalexandroupoli.gr/wp-content/upload
 s/2023/11/1220x370copy1.jpg
CATEGORIES:Παραστάσεις
LOCATION:Δημοτικό Θέατρο Αλεξανδρούπολης\, Λ
 εωφ. Δημοκρατίας 306\, ΑΛΕΞΑΝΔΡΟΥΠΟΛΗ\, 68100\
 , Ελλάδα
GEO:40.845236;25.874486
X-APPLE-STRUCTURED-LOCATION;VALUE=URI;X-ADDRESS=Λεωφ. Δημοκρατ
 ίας 306\, ΑΛΕΞΑΝΔΡΟΥΠΟΛΗ\, 68100\, Ελλάδα;X-APPLE-R
 ADIUS=100;X-TITLE=Δημοτικό Θέατρο Αλεξανδρούπολ
 ης:geo:40.845236,25.874486
END:VEVENT
BEGIN:VTIMEZONE
TZID:Europe/Athens
X-LIC-LOCATION:Europe/Athens
BEGIN:STANDARD
DTSTART:20231029T030000
TZOFFSETFROM:+0300
TZOFFSETTO:+0200
TZNAME:EET
END:STANDARD
END:VTIMEZONE
END:VCALENDAR