BEGIN:VCALENDAR
VERSION:2.0
PRODID:-//wp-events-plugin.com//7.2.3.1//EN
BEGIN:VEVENT
UID:138@visitalexandroupoli.gr
DTSTART;TZID=Europe/Athens:20250628T203000
DTEND;TZID=Europe/Athens:20250630T203000
DTSTAMP:20250626T095917Z
URL:https://visitalexandroupoli.gr/eventsmanager/%cf%80%ce%b1%cf%81%ce%b1%
 ce%bc%cf%85%ce%b8%ce%b9-%cf%87%cf%89%cf%81%ce%b9%cf%83-%ce%bf%ce%bd%ce%bf%
 ce%bc%ce%b1-%cf%84%ce%bf%cf%85-%ce%b9%ce%ac%ce%ba%cf%89%ce%b2%ce%bf%cf%85-
 %ce%ba%ce%b1%ce%bc/
SUMMARY:"ΠΑΡΑΜΥΘΙ ΧΩΡΙΣ ΟΝΟΜΑ" του Ιάκωβου Κα
 μπανέλλη
DESCRIPTION:"ΠΑΡΑΜΥΘΙ ΧΩΡΙΣ ΟΝΟΜΑ" του Ιάκωβου 
 Καμπανέλλη28/29/30 Ιουνίου στο Πνευματικό Κ
 έντρο της Ιεράς Μητρόπολης Αλεξανδρούπο
 λης στις 20:30
ATTACH;FMTTYPE=image/jpeg:https://visitalexandroupoli.gr/wp-content/upload
 s/2025/06/509759501_122163845726548478_1450863502734346102_n.jpg
CATEGORIES:Παραστάσεις
END:VEVENT
BEGIN:VTIMEZONE
TZID:Europe/Athens
X-LIC-LOCATION:Europe/Athens
BEGIN:DAYLIGHT
DTSTART:20250330T040000
TZOFFSETFROM:+0200
TZOFFSETTO:+0300
TZNAME:EEST
END:DAYLIGHT
END:VTIMEZONE
END:VCALENDAR