BEGIN:VCALENDAR
VERSION:2.0
PRODID:-//wp-events-plugin.com//7.2.3.1//EN
BEGIN:VEVENT
UID:136@visitalexandroupoli.gr
DTSTART;TZID=Europe/Athens:20250616T203000
DTEND;TZID=Europe/Athens:20250616T203000
DTSTAMP:20250612T070720Z
URL:https://visitalexandroupoli.gr/eventsmanager/%cf%83%ce%bf%cf%8d%cf%80%
 ce%b5%cf%81-%ce%ae%cf%81%cf%89%ce%b5%cf%82/
SUMMARY:Σούπερ Ήρωες
DESCRIPTION:Νύχτα στην πόλη. Τρία γενναία παιδ
 ιά μεταμορφώνονται σε ήρωες και ξεχύνον
 ται στους δρόμους για να αντιμετωπίσουν 
 κάθε λογής εγκληματίες.\nΜε στολές που θυ
 μίζουν πιτζάμες και όπλα που κανένας δεν
  περιμένει\, οι τρεις φίλοι καταφέρνουν ν
 α προστατεύουν τους ανυποψίαστους πολίτ
 ες\nαπό τους κακούς. Η ιστορία της πρώτης 
 συνάντησης των αγαπημένων ηρώων όλων τω
 ν παιδιών\, καθώς και του μυστικού που το
 υς έκανε σούπερ\nήρωες!\nΔευτέρα\, 16/6 στις 
 20:30\nΘέατρο Αλτιναλμάζη&nbsp\;
ATTACH;FMTTYPE=image/jpeg:https://visitalexandroupoli.gr/wp-content/upload
 s/2025/06/img-2f4a7c398d660febf1637ce1a6c2c146-v-1.jpg
CATEGORIES:Παραστάσεις
END:VEVENT
BEGIN:VTIMEZONE
TZID:Europe/Athens
X-LIC-LOCATION:Europe/Athens
BEGIN:DAYLIGHT
DTSTART:20250330T040000
TZOFFSETFROM:+0200
TZOFFSETTO:+0300
TZNAME:EEST
END:DAYLIGHT
END:VTIMEZONE
END:VCALENDAR