BEGIN:VCALENDAR
VERSION:2.0
PRODID:-//wp-events-plugin.com//7.2.3.1//EN
BEGIN:VEVENT
UID:35@visitalexandroupoli.gr
DTSTART;TZID=Europe/Athens:20240705T213000
DTEND;TZID=Europe/Athens:20240705T213000
DTSTAMP:20240617T113047Z
URL:https://visitalexandroupoli.gr/eventsmanager/%cf%83%cf%85%ce%bd%ce%b1%
 cf%85%ce%bb%ce%af%ce%b1-%ce%bc%ce%b5-%cf%84%ce%b7-%ce%bd%ce%b1%cf%84%ce%ac
 %cf%83%ce%b1-%ce%bc%cf%80%ce%bf%cf%86%ce%af%ce%bb%ce%b9%ce%bf%cf%85/
SUMMARY:Συναυλία με τη Νατάσα Μποφίλιου
DESCRIPTION:ΝΑΤΑΣΣΑ ΜΠΟΦΙΛΙΟΥ\n\n" Κάτι καίγετα
 ι... "\nΚΑΛΟΚΑΙΡΙ 2024\n\nΜια παράσταση των\n\nΘ
 ΕΜΗ ΚΑΡΑΜΟΥΡΑΤΙΔΗ&nbsp\; &amp\; ΓΕΡΑΣΙΜΟΥ ΕΥΑ
 ΓΓΕΛΑΤΟΥ\n\nΑΛΕΞΑΝΔΡΟΥΠΟΛΗ - ΘΕΑΤΡΟ ΑΛΤΙΝ
 ΑΛΜΑΖΗ&nbsp\;\n\nΜια Νέα Παράσταση. Μια Νέα Ε
 ποχή.&nbsp\;\n\nΈπειτα από τις εκρηκτικές χει
 μερινές εμφανίσεις της στην\nΑθήνα και τ
 ις μεγάλες συγκινήσεις που προσέφερε στ
 ο\nπολυπληθές κοινό της\, η Νατάσσα Μποφί
 λιου έρχεται με φόρα\nστο καλοκαίρι\,&nbsp\;
 μπαίνει σε νέα φλεγόμενη τροχιά\, παρουσ
 ιάζει\nμε ενθουσιασμό την νέα παράσταση 
 που έφτιαξαν με τον Θέμη\nΚαραμουρατίδη 
 και τον Γεράσιμο Ευαγγελάτο και μοιράζε
 ται για\nπρώτη φορά ζωντανά τα ολοκαίνου
 ργια τραγούδια του δίσκου\n\n"Κάτι Καίγετ
 αι..."\n\nπου έχουν ήδη ξεχωρίσει και αγαπη
 θεί.\n\nΤην Παρασκευή 5 Ιουλίου 2024\,&nbsp\;η Να
 τάσσα Μποφίλιου εμφανίζεται στην Αλεξαν
 δρούπολη στο Θέατρο Αλτιναλμάζη.\n\nΩρα Ε
 ναρξης 21.30 - Ωρα Προσέλευσης 20.30\n\nΠροπώλη
 ση εισιτηρίων 18\,00€ - Ταμείο 20\,00 €
ATTACH;FMTTYPE=image/jpeg:https://visitalexandroupoli.gr/wp-content/upload
 s/2024/06/bofiliou.jpg
CATEGORIES:Εκδηλώσεις
END:VEVENT
BEGIN:VTIMEZONE
TZID:Europe/Athens
X-LIC-LOCATION:Europe/Athens
BEGIN:DAYLIGHT
DTSTART:20240331T040000
TZOFFSETFROM:+0200
TZOFFSETTO:+0300
TZNAME:EEST
END:DAYLIGHT
END:VTIMEZONE
END:VCALENDAR