BEGIN:VCALENDAR
VERSION:2.0
PRODID:-//wp-events-plugin.com//7.2.3.1//EN
BEGIN:VEVENT
UID:29@visitalexandroupoli.gr
DTSTART;TZID=Europe/Athens:20240717T213000
DTEND;TZID=Europe/Athens:20240717T213000
DTSTAMP:20240716T112250Z
URL:https://visitalexandroupoli.gr/eventsmanager/%cf%83%cf%85%ce%bd%ce%b1%
 cf%85%ce%bb%ce%af%ce%b1-%ce%bc%ce%b5-%cf%84%ce%bf%ce%bd-%ce%b1%ce%bd%cf%84
 %cf%8e%ce%bd%ce%b7-%cf%81%ce%ad%ce%bc%ce%bf-%cf%80%ce%b1%ce%bd%cf%84%ce%b1
 -%cf%80%ce%bf%cf%84/
SUMMARY:Συναυλία με τον Αντώνη Ρέμο «ΠΑΝΤΑ & 
 ΠΟΤΕ»
DESCRIPTION:Αντώνης Ρέμος\n“Πάντα και Ποτέ”\nΚ
 αλοκαιρινή Περιοδεία 2024\n\nΟ&nbsp\;Αντώνης Ρ
 έμος\,&nbsp\;ο κορυφαίος Έλληνας ερμηνευτής
 \, δίνει ραντεβού με τους φίλους του\, φέτ
 ος το καλοκαίρι\,&nbsp\;σε μεγάλες πόλεις τη
 ς Ελλάδας.\n\nΜετά από αρκετά χρόνια\, ο Αν
 τώνης Ρέμος\, μας έδωσε ένα ολοκαίνουργι
 ο άλμπουμ με τραγούδια που έχουν ήδη ξεχ
 ωρίσει και αγαπηθεί\, ένα νέο cd γεμάτο τρ
 αγούδια επιτυχίες που θα τον συντροφεύσ
 ουν το καλοκαίρι σε όλες του τις συναυλί
 ες. Τραγούδια που με την μαγική φωνή του 
 και την αμεσότητα του\, τις μοναδικές του
  ερμηνείες\, θα τραγουδήσουμε όλοι μαζί τ
 ου.\n\nΠάντα και Ποτέ Live! για τις πιο δυνατ
 ές συναυλίες του καλοκαιριού.\n\n\n\nΜεγάλα
  τραγούδια\, μοναδικές ερμηνείες\, υπέροχ
 ες στιγμές γεμάτες μουσική\, χορό και δια
 σκέδαση.\n&nbsp\;\n\n\n\nΑΛΕΞΑΝΔΡΟΥΠΟΛΗ\, ΔΗΜΟΤ
 ΙΚΟ ΣΤΑΔΙΟ ΑΛΕΞΑΝΔΡΟΥΠΟΛΗΣ\nΤετάρτη 17/07/2
 4\, 21:30\n\nΤιμές εισιτηρίων:&nbsp\;\n\n20€ γενική
  είσοδος\n30€ golden standing arena
ATTACH;FMTTYPE=image/jpeg:https://visitalexandroupoli.gr/wp-content/upload
 s/2024/06/Ανώνυμο-σχέδιο-1.png
CATEGORIES:Εκδηλώσεις
END:VEVENT
BEGIN:VTIMEZONE
TZID:Europe/Athens
X-LIC-LOCATION:Europe/Athens
BEGIN:DAYLIGHT
DTSTART:20240331T040000
TZOFFSETFROM:+0200
TZOFFSETTO:+0300
TZNAME:EEST
END:DAYLIGHT
END:VTIMEZONE
END:VCALENDAR