BEGIN:VCALENDAR
VERSION:2.0
PRODID:-//wp-events-plugin.com//7.2.3.1//EN
BEGIN:VEVENT
UID:145@visitalexandroupoli.gr
DTSTART;TZID=Europe/Athens:20250713T204500
DTEND;TZID=Europe/Athens:20250713T204500
DTSTAMP:20250626T111722Z
URL:https://visitalexandroupoli.gr/eventsmanager/%cf%84%ce%bf-%ce%b2%ce%b1
 %cf%83%ce%af%ce%bb%ce%b5%ce%b9%ce%bf-%cf%84%cf%89%ce%bd-%ce%b4%cf%81%ce%ac
 %ce%ba%cf%89%ce%bd-summer-theater-show/
SUMMARY:Το Βασίλειο των Δράκων | Summer Theater Show
DESCRIPTION:🔥&nbsp\;Το Βασίλειο των Δράκων ξεκιν
 άει την περιοδεία του σε ΌΛΗ ΤΗΝ ΕΛΛΑΔΑ!
 🔥\n\nΕτοιμαστείτε για μια&nbsp\;φαντασμαγο
 ρική θεατρική εμπειρία&nbsp\;γεμάτη μαγεία
 \, περιπέτεια και… δράκους που βγάζουν φ
 ωτιές!\nΈνα πρωτότυπο παιδικό show με&nbsp\;εν
 τυπωσιακά ειδικά εφέ\,&nbsp\;πυροτεχνήματα\
 ,&nbsp\;lighting show\,&nbsp\;ζογκλέρ&nbsp\;και&nbsp\;ξυλοπ
 όδαρους\, που καθηλώνει μικρούς και μεγά
 λους.\n\nΟ Ωρίωνας και η Σοφία ξεκινούν έν
 α ταξίδι στο μυθικό Βασίλειο των Δράκων\,
  ακολουθώντας την αρχαία προφητεία των Ε
 κλεκτών. Μέσα από εμπόδια\, δοκιμασίες κα
 ι ανατροπές\, θα χρειαστούν τη βοήθεια τω
 ν παιδιών για να αντιμετωπίσουν τη Βασίλ
 ισσα των Δράκων και τον Πρίγκιπα Κάδμο.\n\
 n🎁&nbsp\;Κάθε παιδί συμμετέχει ενεργά και 
 παίρνει το δικό του μαγικό βραχιόλι!\n🧙
 ‍♂️ Στη Σχολή Μαγείας\, οι μικροί θεατέ
 ς μαθαίνουν ξόρκια\, ανακαλύπτουν τις δυ
 νάμεις τους και βοηθούν στην αποστολή σω
 τηρίας του μαγικού κόσμου.\n\n💬 Η παράστα
 ση\, εκτός από την πλούσια σκηνική δράση\,
  μεταφέρει σημαντικά μηνύματα για τη φιλ
 ία\, τη συνεργασία και την πίστη στον εαυ
 τό μας.\n20Κυριακή 13/7 20:45\nΘέατρο Αλτιναλμά
 ζη
ATTACH;FMTTYPE=image/jpeg:https://visitalexandroupoli.gr/wp-content/upload
 s/2025/06/vasileio-drakon.jpg
CATEGORIES:Παραστάσεις
END:VEVENT
BEGIN:VTIMEZONE
TZID:Europe/Athens
X-LIC-LOCATION:Europe/Athens
BEGIN:DAYLIGHT
DTSTART:20250330T040000
TZOFFSETFROM:+0200
TZOFFSETTO:+0300
TZNAME:EEST
END:DAYLIGHT
END:VTIMEZONE
END:VCALENDAR