BEGIN:VCALENDAR
VERSION:2.0
PRODID:-//wp-events-plugin.com//7.2.3.1//EN
BEGIN:VEVENT
UID:123@visitalexandroupoli.gr
DTSTART;TZID=Europe/Athens:20250704T204500
DTEND;TZID=Europe/Athens:20250704T204500
DTSTAMP:20250527T095334Z
URL:https://visitalexandroupoli.gr/eventsmanager/%cf%84%ce%bf-%ce%b3%ce%ba
 %cf%81%ce%bf%cf%8d%cf%86%ce%b1%ce%bb%ce%bf-%cf%83%cf%84%ce%bf-%ce%b8%ce%ad
 %ce%b1%cf%84%cf%81%ce%bf-%ce%b1%ce%bb%cf%84%ce%b9%ce%bd%ce%b1%ce%bb%ce%bc%
 ce%ac%ce%b6%ce%b7/
SUMMARY:''Το Γκρούφαλο'' στο Θέατρο Αλτιναλμά
 ζη
DESCRIPTION:Ένας ποντικός βγήκε βόλτα στο βαθύ
 \, σκοτεινό δάσος… Ψάχνοντας το φουντούκ
 ι του\, συνάντησε την πονηρή αλεπού\, την 
 εκκεντρική κουκουβάγια και το φίδι που π
 άει σε όλα τα πάρτυ.\n\nΘα καταφέρει να σωθ
 εί ο ποντικός από τα πεινασμένα πλάσματα
  του δάσους μέσα από την ιστορία του τρομ
 ερού Γκρούφαλο\;\n\nΕξάλλου δεν υπάρχει Γκ
 ρούφαλο – ή μήπως… υπάρχει\;\n\n4 Ιουλίου 2
 025\, 20:45\n\nΘέατρο Αλτιναλμάζη
ATTACH;FMTTYPE=image/jpeg:https://visitalexandroupoli.gr/wp-content/upload
 s/2025/05/fbsmallimage.jpg
CATEGORIES:Παραστάσεις
END:VEVENT
BEGIN:VTIMEZONE
TZID:Europe/Athens
X-LIC-LOCATION:Europe/Athens
BEGIN:DAYLIGHT
DTSTART:20250330T040000
TZOFFSETFROM:+0200
TZOFFSETTO:+0300
TZNAME:EEST
END:DAYLIGHT
END:VTIMEZONE
END:VCALENDAR