BEGIN:VCALENDAR
VERSION:2.0
PRODID:-//wp-events-plugin.com//7.2.3.1//EN
BEGIN:VEVENT
UID:150@visitalexandroupoli.gr
DTSTART;TZID=Europe/Athens:20250703T205000
DTEND;TZID=Europe/Athens:20250703T205000
DTSTAMP:20250626T113013Z
URL:https://visitalexandroupoli.gr/eventsmanager/%cf%84%ce%bf-%ce%ba%ce%b1
 %cf%80%ce%bb%ce%ac%ce%bd%ce%b9-%cf%84%ce%b7%cf%82-%ce%b2%ce%b9%cf%84%cf%81
 %ce%af%ce%bd%ce%b1%cf%82-1%ce%bf-%ce%b2%cf%81%ce%b1%ce%b2%ce%b5%ce%af%ce%b
 f-%cf%80%ce%b1%ce%b9%ce%b4/
SUMMARY:Το καπλάνι της βιτρίνας (1ο Βραβείο Π
 αιδικής Παράστασης Θ.Β.Θ. 2025)
DESCRIPTION:Καλοκαίρι. Η μαγική εποχή των παιδ
 ιών. Θάλασσα\, παιχνίδι\, εξερευνήσεις κα
 ι ατέλειωτες νύχτες με μαγικές ιστορίες 
 κάτω απo τα&nbsp\;αστέρια.\nΜια παρέα παιδιώ
 ν στο Λαμαγάρι της Σάμου\,&nbsp\;θα ζήσει μι
 α περιπέτεια που θα αλλάξει τη ζωή τους γ
 ια πάντα.\n\nΗ δικτατορία του Μεταξά στις 4
  Αυγούστου του 1936\, θα οδηγήσει τα παιδιά 
 να πάρουν μέρος σε μυστικές αποστολές γι
 α να βοηθήσουν τον ξάδερφο της Μέλιας κα
 ι της Μυρτώς\, τον Νίκο\, που είναι φοιτητ
 ής και κινδυνεύει με φυλακή. Ο Νίκος κρύβ
 εται στο Μύλο με το σπασμένο φτερό μέχρι 
 να μπορέσει να διαφύγει στην Ισπανία που
  γίνεται εμφύλιος&nbsp\; πόλεμος και να πολ
 εμήσει για την Δημοκρατία. Όσο δύσκολα ό
 μως κι αν είναι τα πράγματα τα παιδιά έχο
 υν τη βοήθεια ενός τίγρη που βρίσκεται μ
 έσα σε μια βιτρίνα στο σαλόνι του σπιτιο
 ύ της Μέλιας και της Μυρτώς. Το Καπλάνι-ό
 πως λένε τον τίγρη στη Σάμο-&nbsp\; έχει την 
 ικανότητα να ζωντανεύει μέσα από τις ιστ
 ορίες που τους διηγείται ο Νίκος και ότα
 ν χρειαστεί\, με το δικό του μαγικό τρόπο 
 να παίρνει μέρος στις δύσκολες αποστολέ
 ς των παιδιών να τα βοηθάει και&nbsp\; να τα 
 προστατεύει.\n\nΤο καπλάνι της βιτρίνας ε
 ίναι&nbsp\;μια ιστορία για την συναρπαστικ
 ή πορεία που ακολουθούν όλα τα ζωντανά π
 λάσματα\, άνθρωποι και ζώα\, για να ζήσουν
  έτσι όπως είναι φτιαγμένα από την φύση: 
 Ελεύθερα.\n\nΚι αυτό για να συμβεί πρέπει 
 να υπάρχει δημοκρατία ακόμα κι αν χρειασ
 τεί να παλέψουμε γι&nbsp\;αυτήν. Για να μπορ
 ούμε κάθε βράδυ πριν κοιμηθούμε στην ερώ
 τηση ΕΥ-ΠΟ\; ή ΛΥ-ΠΟ\; Να απαντάμε ΕΥ-ΠΟ! ΕΥ-
 ΠΟ!\nΠέμπτη 3/7 20:50\nΘέατρο Αλτιναλμάζη
ATTACH;FMTTYPE=image/jpeg:https://visitalexandroupoli.gr/wp-content/upload
 s/2025/06/KAPLANI-χ.jpg
CATEGORIES:Παραστάσεις
END:VEVENT
BEGIN:VTIMEZONE
TZID:Europe/Athens
X-LIC-LOCATION:Europe/Athens
BEGIN:DAYLIGHT
DTSTART:20250330T040000
TZOFFSETFROM:+0200
TZOFFSETTO:+0300
TZNAME:EEST
END:DAYLIGHT
END:VTIMEZONE
END:VCALENDAR