BEGIN:VCALENDAR
VERSION:2.0
PRODID:-//wp-events-plugin.com//7.2.3.1//EN
BEGIN:VEVENT
UID:151@visitalexandroupoli.gr
DTSTART;TZID=Europe/Athens:20250806T210000
DTEND;TZID=Europe/Athens:20250806T210000
DTSTAMP:20250626T113159Z
URL:https://visitalexandroupoli.gr/eventsmanager/%cf%84%ce%bf-%ce%bc%ce%b1
 %ce%b3%ce%b9%ce%ba%cf%8c-%cf%84%ce%b1%ce%be%ce%af%ce%b4%ce%b9-%cf%84%ce%bf
 %cf%85-%ce%b1%ce%b9%cf%83%cf%8e%cf%80%ce%bf%cf%85/
SUMMARY:Το μαγικό ταξίδι του Αισώπου
DESCRIPTION:Ο λαγός ή η χελώνα θα κόψει το νήμα 
 του τερματισμού\;&nbsp\;\n\nΌσα δεν φτάνει η α
 λεπού τα κάνει κρεμαστάρια\;\n\nΤον ψεύτη 
 βοσκό ποιος τον πιστεύει πια\;\n\nΗ κότα εί
 χε χρυσά αυγά ή τζούφια\;&nbsp\;\n\nΟ τζίτζικα
 ς\, ο μέρμηγκας\, το λιοντάρι και ο ποντικ
 ός μένουν στην ίδια γειτονιά\;\n\nΚαι ο Καρ
 αγκιόζης που κολλάει σε όλες αυτές τις ι
 στορίες\;\n\n&nbsp\;\n\nΤο&nbsp\;Θέατρο Ελιάρτ&nbsp\;
 περιοδεύει σε όλη την Ελλάδα και σας καλ
 εί να ακολουθήσετε τον Αίσωπο σε ένα μαγ
 ευτικό ταξίδι αναζήτησης της γνώσης\, πα
 ρουσιάζοντας με απλότητα τους μύθους το
 υ αρχαίου Έλληνα μυθογράφου.&nbsp\;\n\nΔιατη
 ρώντας τον αλληγορικό χαρακτήρα τους\, π
 ροσφέρει στα παιδιά όμορφες ιστορίες κα
 ι αλήθειες που βγαίνουν μέσα από το χαμέ
 νο βιβλίο της σοφίας.\nΤετάρτη 6/8 21:00\nΘέατ
 ρο Αλτιναλμάζη
ATTACH;FMTTYPE=image/jpeg:https://visitalexandroupoli.gr/wp-content/upload
 s/2025/06/cropped-image-2-4-1.jpg
CATEGORIES:Παραστάσεις
END:VEVENT
BEGIN:VTIMEZONE
TZID:Europe/Athens
X-LIC-LOCATION:Europe/Athens
BEGIN:DAYLIGHT
DTSTART:20250330T040000
TZOFFSETFROM:+0200
TZOFFSETTO:+0300
TZNAME:EEST
END:DAYLIGHT
END:VTIMEZONE
END:VCALENDAR