BEGIN:VCALENDAR
VERSION:2.0
PRODID:-//wp-events-plugin.com//7.2.3.1//EN
BEGIN:VEVENT
UID:131@visitalexandroupoli.gr
DTSTART;TZID=Europe/Athens:20250804T213000
DTEND;TZID=Europe/Athens:20250804T213000
DTSTAMP:20250602T100006Z
URL:https://visitalexandroupoli.gr/eventsmanager/%cf%86%ce%b9%ce%bb%ce%bf%
 ce%ba%cf%84%ce%ae%cf%84%ce%b7%cf%82-%cf%84%ce%bf%cf%85-%cf%83%ce%bf%cf%86%
 ce%bf%ce%ba%ce%bb%ce%ae-%cf%83%cf%84%ce%bf-%ce%b8%ce%ad%ce%b1%cf%84%cf%81%
 ce%bf-%ce%b1%ce%bb/
SUMMARY:''Φιλοκτήτης'' του Σοφοκλή στο Θέατρο 
 Αλτιναλμάζη
DESCRIPTION:Ο&nbsp\;Γιώργος Κιμούλης\, ο Δημήτρης 
 Γκοτσόπουλος και ο&nbsp\;Θοδωρής Κατσαφάδο
 ς\, σε παραγωγή της εταιρείας Μέθεξις του
 &nbsp\;Χρήστου Τριπόδη\, παρουσιάζουν κατά 
 την καλοκαιρινή περίοδο σε όλη την Ελλάδ
 α και την Κύπρο την τραγωδία του Σοφοκλή\
 , "Φιλοκτήτης".\n\nΣτον "Φιλοκτήτη"\, ο Σοφοκ
 λής δραματοποιεί μια επιχείρηση απάτης 
 που οργανώνει ο Οδυσσέας και αναλαμβάνε
 ι να εκτελέσει ο Νεοπτόλεμος\, ο νεαρός γ
 ιος του Αχιλλέα. Οι δύο άνδρες φτάνουν στ
 η Λήμνο\, στην άκρη του κόσμου\, όπου οι Αχ
 αιοί είχαν εγκαταλείψει τον Φιλοκτήτη γ
 ια δέκα χρόνια\, πληγωμένο από μια αγιάτρ
 ευτη πληγή. Η αποστολή τους είναι να κλέψ
 ουν το περίφημο τόξο του Φιλοκτήτη\, καθώ
 ς χωρίς αυτό είναι αδύνατη η άλωση της Τρ
 οίας. Ο μύθος αντανακλάται στο σήμερα\, μ
 ε δύο εκπροσώπους της παλαιάς γενιάς. Ο έ
 νας\, εκτός κόσμου\, πιστός στις έννοιες τ
 ης Ουτοπίας και του Επιθυμητού\, και ο άλ
 λος\, εντός κόσμου\, προσκολλημένος στις 
 έννοιες του Ρεαλισμού και του Πολιτικού 
 Εφικτού. Ο καθένας προσπαθεί να προσελκύ
 σει έναν εκπρόσωπο της νεότερης γενιάς. 
 Ποιος θα τον κερδίσει\; Ο ένας ή ο άλλος\; 
 Ή μήπως κανένας από τους δύο\;\nΔευτέρα 4/8\
 , 21:30\nΘέατρο Αλτιναλμάζη - Αλεξανδρούπολ
 η
ATTACH;FMTTYPE=image/jpeg:https://visitalexandroupoli.gr/wp-content/upload
 s/2025/06/50_70_poster_final.jpg
CATEGORIES:Παραστάσεις
END:VEVENT
BEGIN:VTIMEZONE
TZID:Europe/Athens
X-LIC-LOCATION:Europe/Athens
BEGIN:DAYLIGHT
DTSTART:20250330T040000
TZOFFSETFROM:+0200
TZOFFSETTO:+0300
TZNAME:EEST
END:DAYLIGHT
END:VTIMEZONE
END:VCALENDAR