BEGIN:VCALENDAR
VERSION:2.0
PRODID:-//wp-events-plugin.com//7.2.3.1//EN
BEGIN:VEVENT
UID:55@visitalexandroupoli.gr
DTSTART;TZID=Europe/Athens:20240628T200000
DTEND;TZID=Europe/Athens:20240628T200000
DTSTAMP:20240625T184700Z
URL:https://visitalexandroupoli.gr/eventsmanager/1%ce%bf-%ce%b1%ce%bb%cf%8
 9%ce%bd%ce%af-%cf%83%cf%85%ce%bd%ce%b1%cf%80%ce%ac%ce%bd%cf%84%ce%b5%ce%bc
 %ce%b1%ce%bd-%cf%80%ce%b1%ce%bd%ce%b7%ce%b3%cf%85%cf%81%ce%af%ce%b6%ce%b5%
 ce%b9/
SUMMARY:«1ο Αλωνί’ Συναπάντεμαν»: Πανηγυρίζ
 ει ο Ιερός Ναός Αγίων Αποστόλων Πέτρου κ
 αι Παύλου
DESCRIPTION:Ο Πολιτιστικός Σύλλογος Νίψας Έβρ
 ου σε συνδιοργάνωση με τον Δήμο Αλεξανδρ
 ούπολης\, σας προσκαλεί να τιμήσετε με τη
 ν παρουσία σας το «1ο Αλωνί’ Συναπάντεμα
 ν» που θα πραγματοποιηθεί την Παρασκευή 
 28 Ιουνίου 2024 στον οικισμό Νίψας Ν. Έβρου.\
 n\nH εκδήλωση αυτή θα έχει αφενός ως ορόση
 μο την έναρξη της αλωνιστικής περιόδου\, 
 γεωργική εργασία που είναι άρρηκτα συνδ
 εδεμένη με το χωριό της Νίψας και αφετέρ
 ου στην ανάδειξη του πανηγυριού στα πλαί
 σια του εορτασμού των Πολιούχων της Νίψα
 ς των Αγίων Αποστόλων Πέτρου και Παύλου.\
 n\nΣτις 19:00 το απόγευμα θα τελεστεί Μέγας 
 Εσπερινός στον πανηγυρίζοντα Ιερό Ναό Π
 έτρου και Παύλου Νίψας όπου θα τίθενται 
 σε προσκύνημα τα λείψανα της Οσίας Σοφία
 ς Της Κλεισούρας\, η οποία ήλκε την καταγ
 ωγή της από τον Πόντο.\n\nΕν συνεχεία τα πα
 ρευρισκόμενα ποντιακά σωματεία δια των 
 λαβάρων τους θα συνοδεύσουν την εικόνα τ
 ων πολιούχων της Νίψας Αγίων Αποστόλων Π
 έτρου και Παύλου στην περιφορά που θα πρ
 αγματοποιηθεί εντός του οικισμού.\n\nΜετά
  το πέρας του εσπερινού\, οι χορευτές των 
 ποντιακών συλλόγων από τον Έβρο αλλά και
  άλλες πόλεις της Βόρειας Ελλάδας\, με τι
 ς παραδοσιακές τους φορεσιές\, θα ξεκινή
 σουν από τον Ιερό Ναό Πέτρου και Παύλου χ
 ορεύοντας τον χορό Ομάλ’ να κατευθύνοντ
 αι στην πλατεία του χωριού προκειμένου ν
 α συμμετάσχουν σε ένα δρώμενο που θα μας 
 ταξιδέψει στην Παλιά Νίψα και στις αγροτ
 ικές εργασίες του θερισμού και κατόπιν σ
 ε ομαδικό ποντιακό παραδοσιακό χορό.\n\nΘ
 α ακολουθήσει γλέντι για όλους τους επισ
 κέπτες υπό τους ήχους της ποντιακής λύρα
 ς και του κεμανέ.
ATTACH;FMTTYPE=image/jpeg:https://visitalexandroupoli.gr/wp-content/upload
 s/2024/06/449165370_872125071615836_2349627836875629858_n.jpg
CATEGORIES:Εκδηλώσεις
END:VEVENT
BEGIN:VTIMEZONE
TZID:Europe/Athens
X-LIC-LOCATION:Europe/Athens
BEGIN:DAYLIGHT
DTSTART:20240331T040000
TZOFFSETFROM:+0200
TZOFFSETTO:+0300
TZNAME:EEST
END:DAYLIGHT
END:VTIMEZONE
END:VCALENDAR