BEGIN:VCALENDAR
VERSION:2.0
PRODID:-//wp-events-plugin.com//7.2.3.1//EN
BEGIN:VEVENT
UID:139@visitalexandroupoli.gr
DTSTART;TZID=Europe/Athens:20250628T120000
DTEND;TZID=Europe/Athens:20250629T120000
DTSTAMP:20250626T104308Z
URL:https://visitalexandroupoli.gr/eventsmanager/14%ce%bf-%cf%80%ce%b1%ce%
 bd%ce%b5%ce%bb%ce%bb%ce%ae%ce%bd%ce%b9%ce%bf-%cf%80%ce%b1%ce%bd%ce%b8%cf%8
 1%ce%b1%ce%ba%ce%b9%ce%ba%cf%8c-%ce%b1%ce%bd%cf%84%ce%ac%ce%bc%cf%89%ce%bc
 %ce%b1/
SUMMARY:14ο Πανελλήνιο Πανθρακικό Αντάμωμα
DESCRIPTION:Η διοργάνωση «Θράκη Ανταμώνει» θα 
 πραγματοποιηθεί στην Αλεξανδρούπολη στ
 ις 28 και 29 Ιουνίου 2025. Συμμετέχουν πάνω α
 πό 60 θρακιώτικοι πολιτιστικοί σύλλογοι\,
  με στόχο την προβολή της μουσικής\, του χ
 ορού και της παράδοσης της Θράκης.\nΣάββα
 το 28 Ιουνίου• 19:00 στην Πλατεία Φάρου• 20:3
 0 στο Δημοτικό Στάδιο «Φώτης Κοσμάς»\nΚυρ
 ιακή 29 Ιουνίου• 12:00 αποχαιρετιστήριο γλ
 έντι στο Πάρκο Κυκλοφοριακής Αγωγής\n 
ATTACH;FMTTYPE=image/jpeg:https://visitalexandroupoli.gr/wp-content/upload
 s/2025/06/511271355_1142298194598521_717808398224341202_n.jpg
CATEGORIES:Εκδηλώσεις
END:VEVENT
BEGIN:VTIMEZONE
TZID:Europe/Athens
X-LIC-LOCATION:Europe/Athens
BEGIN:DAYLIGHT
DTSTART:20250330T040000
TZOFFSETFROM:+0200
TZOFFSETTO:+0300
TZNAME:EEST
END:DAYLIGHT
END:VTIMEZONE
END:VCALENDAR