BEGIN:VCALENDAR
VERSION:2.0
PRODID:-//wp-events-plugin.com//7.2.3.1//EN
BEGIN:VEVENT
UID:147@visitalexandroupoli.gr
DTSTART;TZID=Europe/Athens:20250807T204500
DTEND;TZID=Europe/Athens:20250807T204500
DTSTAMP:20250626T112235Z
URL:https://visitalexandroupoli.gr/eventsmanager/miraculous-%ce%b9%cf%83%c
 f%84%ce%bf%cf%81%ce%af%ce%b5%cf%82-%cf%84%cf%89%ce%bd-ladybug-catnoir/
SUMMARY:Miraculous: Ιστορίες των Ladybug & Catnoir
DESCRIPTION:Η Μαρινέτ ετοιμάζεται να γιορτάσε
 ι τα γενέθλια της μα το Παρίσι κινδυνεύε
 ι ξανά από τις δυνάμεις του κακού. Χάρη σ
 τις σκοτεινές δυνάμεις του Hawkmoth o κόσμος 
 μας χάνει τα χρώματα του. Η&nbsp\;Μάρινετ&nbsp
 \;και ο Άντριεν πρέπει να αναζητήσουν τον
  ήρωα μέσα τους\, να ξεπεράσουν κάθε φόβο 
 και να εκπληρώσουν το πεπρωμένο τους παλ
 εύοντας για έναν καλύτερο κόσμο. Τα Miraculou
 s θα είναι ο οδηγός τους στη μεγαλύτερη μ
 άχη για να σώσουν όλους εκείνους που αγα
 πούν.&nbsp\;\n\n«MIRACULOUS: Ιστορίες των&nbsp\;Ladybug&nb
 sp\;&amp\;&nbsp\;Cat&nbsp\;Noir»\n\nAφεθείτε στον φαντασ
 τικό κόσμο της&nbsp\;Ladybug&nbsp\;και ετοιμαστεί
 τε για μια θεατρική εμπειρία που θα μείν
 ει αξέχαστη!\nΠέμπτη 7/8 20:45\nΘέατρο Αλτινα
 λμάζη
ATTACH;FMTTYPE=image/jpeg:https://visitalexandroupoli.gr/wp-content/upload
 s/2025/06/cropped-image-2-3-1.jpg
CATEGORIES:Παραστάσεις
END:VEVENT
BEGIN:VTIMEZONE
TZID:Europe/Athens
X-LIC-LOCATION:Europe/Athens
BEGIN:DAYLIGHT
DTSTART:20250330T040000
TZOFFSETFROM:+0200
TZOFFSETTO:+0300
TZNAME:EEST
END:DAYLIGHT
END:VTIMEZONE
END:VCALENDAR